BEGIN:VCALENDAR
VERSION:2.0
PRODID:-//ChamberMaster//Event Calendar 2.0//EN
METHOD:PUBLISH
X-PUBLISHED-TTL:P3D
REFRESH-INTERVAL:P3D
CALSCALE:GREGORIAN
BEGIN:VEVENT
DTSTART:20200716T000000Z
DTEND:20200716T020000Z
X-MICROSOFT-CDO-ALLDAYEVENT:FALSE
SUMMARY:Chisago Lakes Homebrew Club
DESCRIPTION:Attention Chisago Lakes Homebrewers!\n\n\n\nIf you have interest in learning about homebrewing\, have homebrewing stories you'd like to share\, or would just like to get out and have a beer with other beer enthusiasts\, come check out the Chisago Lakes Homebrew Club.\n\n\n\nGathering will be at the Uncommon Loon Brewing Co. in the Grand Hall starting at 7:00pm and be arranged to follow social distancing guidelines.\n\n\n\nEvent Host: Jeremy Smith
X-ALT-DESC;FMTTYPE=text/html:Attention Chisago Lakes Homebrewers!<br />\n<br />\nIf you have interest in learning about homebrewing\, have homebrewing stories you&rsquo\;d like to share\, or would just like to get out and have a beer with other beer enthusiasts\, come check out the Chisago Lakes Homebrew Club.<br />\n<br />\nGathering will be at the Uncommon Loon Brewing Co. in the Grand Hall starting at 7:00pm and be arranged to follow social distancing guidelines.<br />\n<br />\nEvent Host: Jeremy Smith
LOCATION:Uncommon Loon Brewing Co 10825 Lake Blvd Chisago City MN
UID:e.3575.264
SEQUENCE:3
DTSTAMP:20260424T090233Z
URL:https://business.chisagolakeschamber.com/events/details/chisago-lakes-homebrew-club-264
END:VEVENT

END:VCALENDAR
