BEGIN:VCALENDAR
VERSION:2.0
PRODID:-//ChamberMaster//Event Calendar 2.0//EN
METHOD:PUBLISH
X-PUBLISHED-TTL:P3D
REFRESH-INTERVAL:P3D
CALSCALE:GREGORIAN
BEGIN:VEVENT
DTSTART:20210725T153000Z
DTEND:20210725T220000Z
X-MICROSOFT-CDO-ALLDAYEVENT:FALSE
SUMMARY:Chisago Lakes Triathlon After Party
DESCRIPTION:Stop by the Loon after the Triathlon for a beer! We're right up the hill from Paradise Park. Deutschland's food truck will be serving food from 10:30 am until 5 pm.
X-ALT-DESC;FMTTYPE=text/html:<div><span dir="auto" style="color:var(--primary-text)\; font-family:segoe ui historic\,segoe ui\,helvetica\,arial\,sans-serif\; font-size:0.9375rem">Stop by the Loon after the Triathlon for a beer! We&#39\;re right up the hill from Paradise Park. Deutschland&#39\;s food truck will be serving food from 10:30 am until 5 pm.&nbsp\;&nbsp\;</span></div>\n\n<div>&nbsp\;</div>\n\n<div>\n<div>&nbsp\;</div>\n</div>\n
LOCATION:Uncommon Loon Brewing Co.
UID:e.3575.1691
SEQUENCE:3
DTSTAMP:20260421T094624Z
URL:https://business.chisagolakeschamber.com/events/details/chisago-lakes-triathlon-after-party-1691
END:VEVENT

END:VCALENDAR
