BEGIN:VCALENDAR
VERSION:2.0
PRODID:-//ChamberMaster//Event Calendar 2.0//EN
METHOD:PUBLISH
X-PUBLISHED-TTL:P3D
REFRESH-INTERVAL:P3D
CALSCALE:GREGORIAN
BEGIN:VEVENT
DTSTART:20250530T210000Z
DTEND:20250530T230000Z
X-MICROSOFT-CDO-ALLDAYEVENT:FALSE
SUMMARY:Chris Kroeze
DESCRIPTION:Chris Kroeze   "Better on a Boat" Tour with special guests to be announced. Runner Up on NBC's THE VOICE / TOP 5 Country Song "Human" (iTunes TOP 100) / Featured in USA Today / Featured in Rolling Stone / #1 ROCK Song (iTunes) Growing up\, a guitar was in the corner of the family basement that no one was supposed to touch. When no one was looking\, a young Chris Kroeze (pronounced Cruise-E) would sneak down and find it. On his 6th birthday\, Chris got his own guitar and hasn't put it down since. In 2015\, he began a busy stretch of playing over 175 shows a year and creating a large and loyal fan following. That popularity soared in 2018\, when he appeared on NBC's hit TV show "The Voice\," making it all the way to the finals in a runner-up finish. In the finale\, Kroeze sang the original song "Human\," which was TOP 10 on the Billboard HOT 100 and TOP 5 on the iTunes TOP 100. His vocal and guitar skills\, combined with a small-town charm\, led to Kroeze becoming the most streamed artist in the show's history. A small-town boy who loves the outdoors through and through\, Kroeze still lives in Barron\, Wisconsin\, with his wife and can't imagine raising his two children anywhere else
X-ALT-DESC;FMTTYPE=text/html:Chris Kroeze &ndash\; &ldquo\;Better on a Boat&rdquo\; Tour with special guests to be announced. Runner Up on NBC&rsquo\;s THE VOICE / TOP 5 Country Song &ldquo\;Human&rdquo\; (iTunes TOP 100) / Featured in USA Today / Featured in Rolling Stone / #1 ROCK Song (iTunes) Growing up\, a guitar was in the corner of the family basement that no one was supposed to touch. When no one was looking\, a young Chris Kroeze (pronounced Cruise-E) would sneak down and find it. On his 6th birthday\, Chris got his own guitar and hasn&rsquo\;t put it down since. In 2015\, he began a busy stretch of playing over 175 shows a year and creating a large and loyal fan following. That popularity soared in 2018\, when he appeared on NBC&rsquo\;s hit TV show &ldquo\;The Voice\,&rdquo\; making it all the way to the finals in a runner-up finish. In the finale\, Kroeze sang the original song &ldquo\;Human\,&rdquo\; which was TOP 10 on the Billboard HOT 100 and TOP 5 on the iTunes TOP 100. His vocal and guitar skills\, combined with a small-town charm\, led to Kroeze becoming the most streamed artist in the show&rsquo\;s history. A small-town boy who loves the outdoors through and through\, Kroeze still lives in Barron\, Wisconsin\, with his wife and can&rsquo\;t imagine raising his two children anywhere else
LOCATION:220 South St Taylors Falls\, MN 55084
UID:e.3575.8208
SEQUENCE:3
DTSTAMP:20260421T225000Z
URL:https://business.chisagolakeschamber.com/events/details/chris-kroeze-05-30-2025-8208
END:VEVENT

END:VCALENDAR
