BEGIN:VCALENDAR
VERSION:2.0
PRODID:-//ChamberMaster//Event Calendar 2.0//EN
METHOD:PUBLISH
X-PUBLISHED-TTL:P3D
REFRESH-INTERVAL:P3D
CALSCALE:GREGORIAN
BEGIN:VEVENT
DTSTART:20221203T150000Z
DTEND:20221203T210000Z
X-MICROSOFT-CDO-ALLDAYEVENT:FALSE
SUMMARY:Christmas Bazaar\, Raffle & Bake Sale
DESCRIPTION:Annual Christmas Bazaar\, Raffle & Bake Sale at Chisago Lake Lutheran Church\n\n\n\nCraft Show\, Bethlehem Bakery Bake Sale\, Raffles & More!\n\nMorning cinnamon rolls & coffee. Sloppy Joe lunch starts at 11 am.\n\nSupports church ministries.
X-ALT-DESC;FMTTYPE=text/html:<p>Annual Christmas Bazaar\, Raffle &amp\; Bake Sale at Chisago Lake Lutheran Church<br />\n<br />\nCraft Show\, Bethlehem Bakery Bake Sale\, Raffles &amp\; More!<br />\nMorning cinnamon rolls &amp\; coffee. Sloppy Joe lunch starts at 11 am.<br />\nSupports church ministries.</p>\n
LOCATION:Chisago Lake Lutheran Church 1 Summit Avenue Center City\, MN 55012
UID:e.3575.5316
SEQUENCE:3
DTSTAMP:20260422T201631Z
URL:https://business.chisagolakeschamber.com/events/details/christmas-bazaar-raffle-bake-sale-5316
END:VEVENT

END:VCALENDAR
