BEGIN:VCALENDAR
VERSION:2.0
PRODID:-//ChamberMaster//Event Calendar 2.0//EN
METHOD:PUBLISH
X-PUBLISHED-TTL:P3D
REFRESH-INTERVAL:P3D
CALSCALE:GREGORIAN
BEGIN:VEVENT
DTSTART:20200218T133000Z
DTEND:20200218T143000Z
X-MICROSOFT-CDO-ALLDAYEVENT:FALSE
SUMMARY:Coffee with the Superintendent
DESCRIPTION:Join Chisago Lakes School District Superintendent Dean Jennissen as we discuss life\, school and stories all while enjoying a fresh cup of Joe.
X-ALT-DESC;FMTTYPE=text/html:Join Chisago Lakes School District Superintendent Dean Jennissen as we discuss life\, school and stories all while enjoying a fresh cup of Joe.&nbsp\;
LOCATION:Taylors Falls Elementary - Community Room/Media Center
UID:e.3575.3454
SEQUENCE:3
DTSTAMP:20260424T150235Z
URL:https://business.chisagolakeschamber.com/events/details/coffee-with-the-superintendent-02-18-2020-3454
END:VEVENT

END:VCALENDAR
