BEGIN:VCALENDAR
VERSION:2.0
PRODID:-//ChamberMaster//Event Calendar 2.0//EN
METHOD:PUBLISH
X-PUBLISHED-TTL:P3D
REFRESH-INTERVAL:P3D
CALSCALE:GREGORIAN
BEGIN:VEVENT
DTSTART:20251103T000000Z
DTEND:20251103T011500Z
X-MICROSOFT-CDO-ALLDAYEVENT:FALSE
SUMMARY:Community Night of Worship
DESCRIPTION:Sunday\, Nov. 2\n\nFREE Taco Bar | 4:45-5:45pm\n\nWorship | 6:00pm\n\n\n\nYou're invited to an inspiring night of worship and contemporary Christian music! Join us as we come together to celebrate our faith\, lift our voices\, and share in the beauty of community. Whether you're seeking a moment of peace\, a chance to reflect\, or simply a time to rejoice in the presence of God\, this event promises to be a memorable experience for all.\n\nCome early and enjoy a free taco bar from 4:45 5:45pm before the worship begins! Invite your family and friends you won't want to miss it!\n\nSEATS ARE LIMITED - RESERVE YOUR FREE TICKETS NOW!\n\n\n\n*Hosted by Lakes Free Church
X-ALT-DESC;FMTTYPE=text/html:<p><strong>Sunday\, Nov. 2<br />\nFREE Taco Bar | 4:45-5:45pm<br />\nWorship | 6:00pm</strong><br />\n<br />\nYou&rsquo\;re invited to an inspiring night of worship and contemporary Christian music! Join us as we come together to celebrate our faith\, lift our voices\, and share in the beauty of community. Whether you&rsquo\;re seeking a moment of peace\, a chance to reflect\, or simply a time to rejoice in the presence of God\, this event promises to be a memorable experience for all.</p>\n\n<p>Come early and enjoy a&nbsp\;<strong>free taco bar from 4:45&ndash\;5:45pm</strong>&nbsp\;before the worship begins! Invite your family and friends&mdash\;you won&rsquo\;t want to miss it!</p>\n\n<p><strong>SEATS ARE LIMITED - RESERVE YOUR FREE TICKETS NOW!</strong><br />\n<br />\n<em>*Hosted by Lakes Free Church</em></p>\n
LOCATION:Bloom Lake Barn 17147 Bloom Lake Rd Shafer\, MN 55074
UID:e.3575.9051
SEQUENCE:3
DTSTAMP:20260422T081818Z
URL:https://business.chisagolakeschamber.com/events/details/community-night-of-worship-9051
END:VEVENT

END:VCALENDAR
