BEGIN:VCALENDAR
VERSION:2.0
PRODID:-//ChamberMaster//Event Calendar 2.0//EN
METHOD:PUBLISH
X-PUBLISHED-TTL:P3D
REFRESH-INTERVAL:P3D
CALSCALE:GREGORIAN
BEGIN:VEVENT
DTSTART:20220521T140000Z
DTEND:20220521T170000Z
X-MICROSOFT-CDO-ALLDAYEVENT:FALSE
SUMMARY:Community Volunteer Event
DESCRIPTION:Pollinator Garden Planting Event at Tern Avenue Trailhead. Tools provided. Please bring your own work gloves\, water & snack.\n\nThis event is made possible by: Chisago County\, Chisago Lakes Rotary Club and the National Park Service.\n\nQuestions? Contact 651-334-1263
X-ALT-DESC;FMTTYPE=text/html:Pollinator Garden Planting Event at Tern Avenue Trailhead. Tools provided. Please bring your own work gloves\, water &amp\; snack.<br />\nThis event is made possible by: Chisago County\, Chisago Lakes Rotary Club and the National Park Service.<br />\nQuestions? Contact 651-334-1263
LOCATION:30269 Tern Avenue Shafer\, MN 55074
UID:e.3575.3450
SEQUENCE:3
DTSTAMP:20260421T115013Z
URL:https://business.chisagolakeschamber.com/events/details/community-volunteer-event-3450
END:VEVENT

END:VCALENDAR
