BEGIN:VCALENDAR
VERSION:2.0
PRODID:-//ChamberMaster//Event Calendar 2.0//EN
METHOD:PUBLISH
X-PUBLISHED-TTL:P3D
REFRESH-INTERVAL:P3D
CALSCALE:GREGORIAN
BEGIN:VEVENT
DTSTART;VALUE=DATE:20220512
DTEND;VALUE=DATE:20220516
TRANSP:TRANSPARENT
X-MICROSOFT-CDO-ALLDAYEVENT:TRUE
SUMMARY:Community Wide Garage Sales
DESCRIPTION:Community Wide Garage Sales\n\n\nChisago City's 11th Annual City-Wide Garage Sale Days
X-ALT-DESC;FMTTYPE=text/html:<h1 style="padding: 15px 0px 10px\; margin: 0px\; font-size: 22pt\; box-sizing: border-box\; font-family: Oswald\, Arial\, sans-serif\; line-height: 33.7333px\; color: rgb(63\, 70\, 51)\; text-align: center\;">Community Wide Garage Sales</h1>\n\n<div class="body" style="box-sizing: border-box\; margin: 0px\; padding: 0px\; font-family: Tahoma\, Arial\, Helvetica\, sans-serif\; font-size: 16px\;">\n<div style="box-sizing: border-box\; margin: 0px\; padding: 0px\; text-align: center\;"><strong style="box-sizing: border-box\; margin: 0px\; padding: 0px\;">Chisago City&rsquo\;s 11<sup style="box-sizing: border-box\; margin: 0px\; padding: 0px\;">th</sup><span style="box-sizing: border-box\; margin: 0px\; padding: 0px\;">&nbsp\;</span>Annual City-Wide Garage Sale Days</strong></div>\n</div>\n
LOCATION:Maps will be available prior to garage sales at Chisago City Hall. During the weekend\, the maps will be available on the door of Chisago City Hall in a large envelope. If timing permits\, the list and addresses of all participants will be on the city's website the week of the sales.
UID:e.3575.3437
SEQUENCE:3
DTSTAMP:20260421T115550Z
URL:https://business.chisagolakeschamber.com/events/details/community-wide-garage-sales-3437
END:VEVENT

END:VCALENDAR
