BEGIN:VCALENDAR
VERSION:2.0
PRODID:-//ChamberMaster//Event Calendar 2.0//EN
METHOD:PUBLISH
X-PUBLISHED-TTL:P3D
REFRESH-INTERVAL:P3D
CALSCALE:GREGORIAN
BEGIN:VEVENT
DTSTART:20220212T010000Z
DTEND:20220212T040000Z
X-MICROSOFT-CDO-ALLDAYEVENT:FALSE
SUMMARY:Cornhole Tournament
DESCRIPTION:Grab a partner and come to the Loon (Grand Hall) to join in on a fun Cornhole Tournament sponsored by the Chisago Lakes Chamber as part of the Celebration of the Lakes and hosted by Uncommon Loon Brewing Company. Center City Swine Circus will be inside serving up their awesome BBQ starting at 3pm.\n\n \n\nTournament cost is $20/team. You may register for 2-person teams in the taproom or in advance (preferred) by emailing: events@uncommonloonbrewing.com.  Please include "Feb 11 Cornhole" in the subject line of your email along with names of players and/or Team Name.  Entry fee will be collected at check-in.  Registration will be capped at 32 teams and will close at 6pm on the day of event and tournament bracket posted by 6:45pm in the Uncommon Loon Event Center. Please check-in between 5-6:30pm the day of the event. First round of tournament play begins at 7pm. Prizes will be awarded. Good Luck!
X-ALT-DESC;FMTTYPE=text/html:<span style="color:#050505"><span style="font-family:segoe ui historic\,sans-serif"><span style="font-size:12.0pt">Grab a partner and come to the Loon (Grand Hall) to join in on a fun Cornhole Tournament sponsored by the Chisago Lakes Chamber as part of the Celebration of the Lakes and hosted by Uncommon Loon Brewing Company. Center City Swine Circus will be inside serving up their awesome BBQ starting at 3pm.</span></span></span><br />\n&nbsp\;<br />\n<span style="color:#050505"><span style="font-family:segoe ui historic\,sans-serif"><span style="font-size:12.0pt">Tournament cost is $20/team. You may register for 2-person teams in the taproom or in advance (preferred) by emailing: </span></span></span><a href="mailto:events@uncommonloonbrewing.com"><span style="font-family:segoe ui historic\,sans-serif"><span style="font-size:12.0pt">events@uncommonloonbrewing.com</span></span></a><span style="color:#050505"><span style="font-family:segoe ui historic\,sans-serif"><span style="font-size:12.0pt">. &nbsp\;Please include &quot\;Feb 11 Cornhole&quot\; in the subject line of your email along with names of players and/or Team Name. &nbsp\;Entry fee will be collected at check-in. &nbsp\;Registration will be capped at 32 teams and will close at 6pm on the day of event and tournament bracket posted by 6:45pm in the Uncommon Loon Event Center. Please check-in between 5-6:30pm the day of the event. First round of tournament play begins at 7pm. Prizes will be awarded. Good Luck!</span></span></span><br />\n&nbsp\;<br />\n&nbsp\;
LOCATION:
UID:e.3575.3066
SEQUENCE:3
DTSTAMP:20260421T081559Z
URL:https://business.chisagolakeschamber.com/events/details/cornhole-tournament-3066
END:VEVENT

END:VCALENDAR
