BEGIN:VCALENDAR
VERSION:2.0
PRODID:-//ChamberMaster//Event Calendar 2.0//EN
METHOD:PUBLISH
X-PUBLISHED-TTL:P3D
REFRESH-INTERVAL:P3D
CALSCALE:GREGORIAN
BEGIN:VEVENT
DTSTART:20200112T190000Z
DTEND:20200112T203000Z
X-MICROSOFT-CDO-ALLDAYEVENT:FALSE
SUMMARY:Curator-Guided Snowshoe at Franconia
DESCRIPTION:Join Franconia's Executive Director & Chief Curator for guided snowshoe tours of the sculpture park\, followed by hot chocolate and snacks. Participants will get a quick snowshoeing how-to and history lesson from Interstate State Park's interpretive naturalist before heading out on a wintry tour of Franconia\, where you'll traverse our snow-covered prairie and view contemporary sculptures in the landscape. Stay after the tour to enjoy light refreshments indoors. Registration is $10/person\, payable online. We will have 18 pairs of wooden adult snowshoes and six pairs of aluminum children's snowshoes (ages 6 and up) available on a first-come\, first-served basis. Each tour is limited to 20 people so please sign up early. Register Here (Click on the "Tours" tab to find the Snowshoe tours). *NOTE: If there are less than five inches of snow on the ground we will not be able to use the snowshoes and will enjoy a hike by boot instead. Make sure to dress for the weather!
X-ALT-DESC;FMTTYPE=text/html:<span style="color:#5E5E5E\;"><span style="font-family:arial\,sans-serif\;"><span style="font-size:11.5pt\;">Join Franconia&#39\;s Executive Director &amp\; Chief Curator for guided snowshoe tours of the sculpture park\, followed by hot chocolate and snacks. Participants will get a quick snowshoeing how-to and history lesson from Interstate State Park&rsquo\;s interpretive naturalist before heading out on a wintry tour of Franconia\, where you&rsquo\;ll traverse our snow-covered prairie and view contemporary sculptures in the landscape. Stay after the tour to enjoy light refreshments indoors. Registration is $10/person\, payable online. We will have 18 pairs of wooden adult snowshoes and six pairs of aluminum children&#39\;s snowshoes (ages 6 and up) available on a first-come\, first-served basis. Each tour is limited to 20 people so please sign up early.&nbsp\;<a href="https://www.franconia.org/events-programs/?fbclid=IwAR2-nyw6rKwKrUYmVecfcpsYh_1a3ghn9MM4QdpBXSFDPf19sOSoA16hFZM" target="_blank"><span style="color:#1C6E98\;">Register Here</span></a>&nbsp\;(Click on the &quot\;Tours&quot\; tab to find the Snowshoe tours).&nbsp\;<em>*NOTE: If there are less than five inches of snow on the ground we will not be able to use the snowshoes and will enjoy a hike by boot instead. Make sure to dress for the weather!</em></span></span></span>
LOCATION:Franconia Sculpture Park 29836 St. Croix Trail\, Shafer
UID:e.3575.12
SEQUENCE:3
DTSTAMP:20260424T162731Z
URL:https://business.chisagolakeschamber.com/events/details/curator-guided-snowshoe-at-franconia-12
END:VEVENT

END:VCALENDAR
