BEGIN:VCALENDAR
VERSION:2.0
PRODID:-//ChamberMaster//Event Calendar 2.0//EN
METHOD:PUBLISH
X-PUBLISHED-TTL:P3D
REFRESH-INTERVAL:P3D
CALSCALE:GREGORIAN
BEGIN:VEVENT
DTSTART:20210119T200000Z
DTEND:20210119T210000Z
X-MICROSOFT-CDO-ALLDAYEVENT:FALSE
SUMMARY:Dementia Friends (A Virtual Educational Session)
DESCRIPTION:These monthly sessions are free and useful both to family members with loved ones with dementia and businesses dealing with individuals with dementia either in person or by phone or online in this time of social distancing. Flyer To register or for more information contact Collette at collette@familypathways.org
X-ALT-DESC;FMTTYPE=text/html:<span style="color: rgb(102\, 102\, 102)\; font-family: Roboto\, &quot\;Lucida Grande&quot\;\, arial\, sans-serif\; font-size: 14px\; text-align: justify\;">These monthly sessions are free and useful both to family members with loved ones with dementia and businesses dealing with individuals with dementia either in person or by phone or online in this time of social distancing.&nbsp\;</span><a data-id="l-3379096281" href="http://www.chisagolakeschamber.com/wp-content/uploads/2020/12/Dementia-Friends-1-1.pdf" rel="nofollow" style="cursor: pointer\; color: rgb(28\, 110\, 152)\; font-family: Roboto\, &quot\;Lucida Grande&quot\;\, arial\, sans-serif\; font-size: 14px\; text-align: justify\;" target="_blank">Flyer</a><span style="color: rgb(102\, 102\, 102)\; font-family: Roboto\, &quot\;Lucida Grande&quot\;\, arial\, sans-serif\; font-size: 14px\; text-align: justify\;">&nbsp\;To register or for more information contact Collette at&nbsp\;</span><a data-id="l-0602964642" href="mailto:collette@familypathways.org" rel="nofollow" style="cursor: pointer\; color: rgb(28\, 110\, 152)\; font-family: Roboto\, &quot\;Lucida Grande&quot\;\, arial\, sans-serif\; font-size: 14px\; text-align: justify\;" target="_blank">collette@familypathways.org</a>
LOCATION:
UID:e.3575.347
SEQUENCE:3
DTSTAMP:20260424T023306Z
URL:https://business.chisagolakeschamber.com/events/details/dementia-friends-a-virtual-educational-session-347
END:VEVENT

END:VCALENDAR
