BEGIN:VCALENDAR
VERSION:2.0
PRODID:-//ChamberMaster//Event Calendar 2.0//EN
METHOD:PUBLISH
X-PUBLISHED-TTL:P3D
REFRESH-INTERVAL:P3D
CALSCALE:GREGORIAN
BEGIN:VEVENT
DTSTART:20220414T153000Z
DTEND:20220414T170000Z
X-MICROSOFT-CDO-ALLDAYEVENT:FALSE
SUMMARY:Dine & Discover - Dementia Friends Info Session
DESCRIPTION:This session is for anyone who knows someone living with dementia.\n\n	Learn the difference between dementia and normal aging\n	Learn The 5 Key Messages\n	Learn how to better communicate with someone diagnosed with a dementia\n\nLunch will be provided. Registration required here
X-ALT-DESC;FMTTYPE=text/html:This session is for anyone who knows someone living with dementia.\n<ul>\n	<li>Learn the difference between dementia and normal aging</li>\n	<li>Learn&nbsp\;<em>The 5 Key Messages</em></li>\n	<li>Learn how to better communicate with someone diagnosed with a dementia</li>\n</ul>\nLunch will be provided. Registration required <a href="https://northbranch.cr3.rschooltoday.com/public/getclass/category_id/0/program_id/14">here</a>
LOCATION:Rushseba 700 West 14th Street Rush City\, MN 55069
UID:e.3575.3249
SEQUENCE:3
DTSTAMP:20260421T110152Z
URL:https://business.chisagolakeschamber.com/events/details/dine-discover-dementia-friends-info-session-3249
END:VEVENT

END:VCALENDAR
