BEGIN:VCALENDAR
VERSION:2.0
PRODID:-//ChamberMaster//Event Calendar 2.0//EN
METHOD:PUBLISH
X-PUBLISHED-TTL:P3D
REFRESH-INTERVAL:P3D
CALSCALE:GREGORIAN
BEGIN:VEVENT
DTSTART:20220521T000000Z
DTEND:20220521T030000Z
X-MICROSOFT-CDO-ALLDAYEVENT:FALSE
SUMMARY:Dinner and Dueling Pianos in the Vines!
DESCRIPTION:Watch the sunset over the vineyard while enjoying an amazing dinner and dueling piano show at Winehaven!  As the stars emerge\, the vineyard will be filled with the sounds of music from the 1970's all the way up to the current favorites!  Grab your friends and your favorite song requests for a fun night of food and music at the winery!  The doors open at 6:30 and dinner starts at 7:00 pm.  The menu includes baby back Memphis style ribs and shredded smoked chicken with creamy cole slaw\, pork baked beans and dinner rolls.  Cookies and brownies are available for dessert. A vegetarian lasagna is also available along with gluten free options upon request.\n\nNote: This event will be held outside\, weather permitting.
X-ALT-DESC;FMTTYPE=text/html:Watch the sunset over the vineyard while enjoying an amazing dinner and dueling piano show at Winehaven!&nbsp\; As the stars emerge\, the vineyard will be filled with the sounds of music from the 1970&#39\;s all the way up to the current favorites!&nbsp\; Grab your friends and your favorite song requests for a fun night of food and music at the winery!&nbsp\; The doors open at 6:30 and dinner starts at 7:00 pm.&nbsp\; The menu includes baby back Memphis style ribs and shredded smoked chicken with creamy cole slaw\, pork baked beans and dinner rolls.&nbsp\; Cookies and brownies are available for dessert. A vegetarian lasagna is also available along with gluten free options upon request.<br />\nNote: This event will be held outside\, weather permitting.&nbsp\;
LOCATION:Winehaven Winery 10020 Deer Garden Lane Chisago City\, MN 55013
UID:e.3575.3248
SEQUENCE:3
DTSTAMP:20260421T115646Z
URL:https://business.chisagolakeschamber.com/events/details/dinner-and-dueling-pianos-in-the-vines-3248
END:VEVENT

END:VCALENDAR
