BEGIN:VCALENDAR
VERSION:2.0
PRODID:-//ChamberMaster//Event Calendar 2.0//EN
METHOD:PUBLISH
X-PUBLISHED-TTL:P3D
REFRESH-INTERVAL:P3D
CALSCALE:GREGORIAN
BEGIN:VEVENT
DTSTART:20200224T213000Z
DTEND:20200224T213000Z
X-MICROSOFT-CDO-ALLDAYEVENT:FALSE
SUMMARY:Discover Club Junior
DESCRIPTION:Discover something new at the library! Each month\, we will explore topics like programming\, nutrition\, photography\, and much more. February's theme is Sustainable Resources\, an important part of the future of our planet. Learn about polymers and the variety of ways you can be a scientist who saves the world This program occurs on the last Monday of the month and intended for children in K-4th grade. Registration is required.
X-ALT-DESC;FMTTYPE=text/html:<span style="color: rgb(0\, 0\, 0)\; font-family: Roboto\, &quot\;Lucida Grande&quot\;\, arial\, sans-serif\; font-size: 14px\;">Discover something new at the library! Each month\, we will explore topics like programming\, nutrition\, photography\, and much more. February&#39\;s theme is&nbsp\;</span><span style="font-weight: 700\; color: rgb(0\, 0\, 0)\; font-family: Roboto\, &quot\;Lucida Grande&quot\;\, arial\, sans-serif\; font-size: 14px\;">Sustainable Resources</span><span style="color: rgb(0\, 0\, 0)\; font-family: Roboto\, &quot\;Lucida Grande&quot\;\, arial\, sans-serif\; font-size: 14px\;">\, an important part of the future of our planet. Learn about polymers and the variety of ways you can be a scientist who saves the world This program occurs on the last Monday of the month and intended for children in K-4th grade. Registration is required.</span>
LOCATION:Chisago Lakes Library 11754 302nd Street Chisago City\, MN 55013 651-257-2817
UID:e.3575.183
SEQUENCE:3
DTSTAMP:20260424T162645Z
URL:https://business.chisagolakeschamber.com/events/details/discover-club-junior-183
END:VEVENT

END:VCALENDAR
