BEGIN:VCALENDAR
VERSION:2.0
PRODID:-//ChamberMaster//Event Calendar 2.0//EN
METHOD:PUBLISH
X-PUBLISHED-TTL:P3D
REFRESH-INTERVAL:P3D
CALSCALE:GREGORIAN
BEGIN:VEVENT
DTSTART:20200127T213000Z
DTEND:20200127T223000Z
X-MICROSOFT-CDO-ALLDAYEVENT:FALSE
SUMMARY:Discover Club Junior
DESCRIPTION:Discover something new at the library! Each month\, we will explore topics like programming\, nutrition\, photography and much more. January's theme is Lego Programming\, a great adventure for the creative mind. Design\, build and us WeDo software to program your Lego model to move! This program occurs on the last Monday of the month and is aimed at children in K-4th grade. Registration is required.
X-ALT-DESC;FMTTYPE=text/html:Discover something new at the library! Each month\, we will explore topics like programming\, nutrition\, photography and much more. January&#39\;s theme is <strong>Lego Programming</strong>\, a great adventure for the creative mind. Design\, build and us WeDo software to program your Lego model to move! This program occurs on the last Monday of the month and is aimed at children in K-4th grade. Registration is required.
LOCATION:Chisago Lakes Library 11754 302nd St\, Chisago City
UID:e.3575.9
SEQUENCE:3
DTSTAMP:20260424T162646Z
URL:https://business.chisagolakeschamber.com/events/details/discover-club-junior-9
END:VEVENT

END:VCALENDAR
