BEGIN:VCALENDAR
VERSION:2.0
PRODID:-//ChamberMaster//Event Calendar 2.0//EN
METHOD:PUBLISH
X-PUBLISHED-TTL:P3D
REFRESH-INTERVAL:P3D
CALSCALE:GREGORIAN
BEGIN:VEVENT
DTSTART:20200212T003000Z
DTEND:20200212T020000Z
X-MICROSOFT-CDO-ALLDAYEVENT:FALSE
SUMMARY:doTERRA Essential Oil Class
DESCRIPTION:Did you know that essential oils can enhance a romantic mood? Because people are strongly impacted physically and emotionally by scents\, the aromas of some essential oils are great aphrodisiacs. We will be making a Romantic Massage Oil. If you have any questions call Trudy Lodien at 651-491-0962 www.mydoterra.com/trudylodien
X-ALT-DESC;FMTTYPE=text/html:<span style="color: rgb(0\, 0\, 0)\; font-family: Roboto\, &quot\;Lucida Grande&quot\;\, arial\, sans-serif\; font-size: 14px\;">Did you know that essential oils can enhance a romantic mood? Because people are strongly impacted physically and emotionally by scents\, the aromas of some essential oils are great aphrodisiacs. We will be making a Romantic Massage Oil. If you have any questions call&nbsp\;</span><a data-id="l-0609896248" href="http://www.mydoterra.com/trudylodien" rel="nofollow" style="color: rgb(28\, 110\, 152)\; font-family: Roboto\, &quot\;Lucida Grande&quot\;\, arial\, sans-serif\; font-size: 14px\;" target="_blank">Trudy Lodien</a><span style="color: rgb(0\, 0\, 0)\; font-family: Roboto\, &quot\;Lucida Grande&quot\;\, arial\, sans-serif\; font-size: 14px\;">&nbsp\;at 651-491-0962&nbsp\;</span><a data-id="l-3171692200" href="http://www.mydoterra.com/trudylodien" rel="nofollow" style="color: rgb(28\, 110\, 152)\; font-family: Roboto\, &quot\;Lucida Grande&quot\;\, arial\, sans-serif\; font-size: 14px\;" target="_blank">www.mydoterra.com/trudylodien</a>
LOCATION:Chisago Lakes Chamber Office 30525 Linden Street Lindstrom\, MN 55045
UID:e.3575.191
SEQUENCE:3
DTSTAMP:20260424T150757Z
URL:https://business.chisagolakeschamber.com/events/details/doterra-essential-oil-class-191
END:VEVENT

END:VCALENDAR
