BEGIN:VCALENDAR
VERSION:2.0
PRODID:-//ChamberMaster//Event Calendar 2.0//EN
METHOD:PUBLISH
X-PUBLISHED-TTL:P3D
REFRESH-INTERVAL:P3D
CALSCALE:GREGORIAN
BEGIN:VEVENT
DTSTART:20201220T000000Z
DTEND:20201220T020000Z
X-MICROSOFT-CDO-ALLDAYEVENT:FALSE
SUMMARY:Drive Through Living Nativity
DESCRIPTION:Join us for our Eighth Annual Living Nativity! This year will be a bit different\, with a DRIVE THROUGH NATIVITY. Grab some Christmas treats and blankets and drive through to experience different scenes from the Christmas Story. No need to even get out of your car.\n\n \n\nThis has become an annual event for many families\, we wanted to continue the tradition this year. The event is FREE.
X-ALT-DESC;FMTTYPE=text/html:<p style="margin: 0px\; padding: 0px\; color: rgb(102\, 102\, 102)\; font-family: Roboto\, &quot\;Lucida Grande&quot\;\, arial\, sans-serif\; font-size: 14px\; text-align: justify\;">Join us for our Eighth Annual Living Nativity! This year will be a bit different\, with a DRIVE THROUGH NATIVITY. Grab some Christmas treats and blankets and drive through to experience different scenes from the Christmas Story. No need to even get out of your car.</p>\n\n<p style="margin: 0px\; padding: 0px\; color: rgb(102\, 102\, 102)\; font-family: Roboto\, &quot\;Lucida Grande&quot\;\, arial\, sans-serif\; font-size: 14px\; text-align: justify\;">&nbsp\;</p>\n\n<p style="margin: 0px\; padding: 0px\; color: rgb(102\, 102\, 102)\; font-family: Roboto\, &quot\;Lucida Grande&quot\;\, arial\, sans-serif\; font-size: 14px\; text-align: justify\;">This has become an annual event for many families\, we wanted to continue the tradition this year. The event is FREE.</p>\n
LOCATION:30828 Irene Ave Lindstrom\, MN 55045
UID:e.3575.338
SEQUENCE:3
DTSTAMP:20260424T035534Z
URL:https://business.chisagolakeschamber.com/events/details/drive-through-living-nativity-338
END:VEVENT

END:VCALENDAR
