BEGIN:VCALENDAR
VERSION:2.0
PRODID:-//ChamberMaster//Event Calendar 2.0//EN
METHOD:PUBLISH
X-PUBLISHED-TTL:P3D
REFRESH-INTERVAL:P3D
CALSCALE:GREGORIAN
BEGIN:VEVENT
DTSTART:20220422T140000Z
DTEND:20220422T220000Z
X-MICROSOFT-CDO-ALLDAYEVENT:FALSE
SUMMARY:Earth Day at Franconia Sculpture Park
DESCRIPTION:Franconia Sculpture Park is located on 50 acres in East Central Minnesota\, along the Saint Croix River Valley. Minnesota is uniquely positioned at the intersection of four distinct biomes: Tallgrass Aspen Parkland in the far northeast\, Prairie Grassland to the west\, Coniferous Forest to the north\, and Deciduous Forest to the south. \n\n			\n\n			It's a significant effort to keep the grounds beautiful for the public\, but this is where YOU can help! This year\, to celebrate Earth Day\, Franconia Sculpture Park is hosting a volunteer event featuring a variety of activities for all skill sets. Types of projects include\; sculpture repair\, weeding and spreading trap rock. \n\n			\n\n			Lunch and drink will be provided for volunteers in addition to a guided tour of the park! \n\n			 \n\n			Please remember to dress appropriately for this event\, volunteers will be outdoors for the majority of the day. Tools will be provided as needed\, but feel free to bring your own work gloves if desired.\n\n			 \n\n			Please Sign Up here\n\n			 \n\n			Thank you! We look forward to celebrating Earth Day with you.
X-ALT-DESC;FMTTYPE=text/html:<table align="center" border="0" cellpadding="0" cellspacing="0" style="width:100.0%\;border-collapse:collapse\;" width="100%">\n	<tbody>\n		<tr>\n			<td style="padding:0in 13.5pt 6.75pt 13.5pt\;vertical-align:top\;"><span style="color:#202020\;"><span style="font-family:arial\,sans-serif\;"><span style="font-size:9.0pt\;">Franconia Sculpture Park is located on 50 acres in East Central Minnesota\, along the Saint Croix River Valley. Minnesota is uniquely positioned at the intersection of four distinct biomes: Tallgrass Aspen Parkland in the far northeast\, Prairie Grassland to the west\, Coniferous Forest to the north\, and Deciduous Forest to the south.&nbsp\;</span></span></span><br />\n			<br />\n			<span style="color:#202020\;"><span style="font-family:helvetica\,sans-serif\;"><span style="font-size:9.0pt\;">It&rsquo\;s a significant effort to keep the grounds beautiful for the public\, but this is where YOU can help! This year\, to celebrate Earth Day\, Franconia Sculpture Park is hosting a volunteer event featuring a variety of activities for all skill sets. Types of projects include\; sculpture repair\, weeding and spreading trap rock.&nbsp\;</span></span></span><br />\n			<br />\n			<strong><em><span style="color:#202020\;"><span style="font-family:arial\,sans-serif\;"><span style="font-size:9.0pt\;">Lunch and drink will be provided for volunteers in addition to a guided tour of the park!&nbsp\;</span></span></span></em></strong><br />\n			&nbsp\;<br />\n			<span style="color:#202020\;"><span style="font-family:arial\,sans-serif\;"><span style="font-size:9.0pt\;">Please remember to dress appropriately for this event\, volunteers will be outdoors for the majority of the day. Tools will be provided as needed\, but feel free to bring your own work gloves if desired.</span></span></span><br />\n			&nbsp\;<br />\n			<span style="color:black\;"><span style="font-family:arial\,sans-serif\;">Please Sign Up </span></span><span style="color:#202020\;"><span style="font-family:helvetica\,sans-serif\;"><span style="font-size:12.0pt\;"><a href="https://urldefense.proofpoint.com/v2/url?u=https-3A__signup.com_go_fnCXKjS&amp\;d=DwMFaQ&amp\;c=euGZstcaTDllvimEN8b7jXrwqOf-v5A_CdpgnVfiiMM&amp\;r=ahRRyeRZeXwfZpK1liaikFEgP2HAkNfr0yJxUpjGS-s&amp\;m=KK7hAkrmO_gQyAy4U_veDUo3qZ1HPJjVoEbVpLJX0jc&amp\;s=xHGwQyyi1viQGqN0b8ARbbQmt1gTltYjPQHuDv1kSY8&amp\;e=" style="text-decoration-line:none\;" target="_blank"><strong><span style="font-family:arial\,sans-serif\;"><span style="font-size:11.0pt\;">here</span></span></strong></a></span></span></span><br />\n			&nbsp\;<br />\n			<em><span style="color:#202020\;"><span style="font-family:helvetica\,sans-serif\;"><span style="font-size:12.0pt\;">Thank you! We look forward to celebrating Earth Day with you.</span></span></span></em></td>\n		</tr>\n	</tbody>\n</table>\n\n<div style="clear:both\;">&nbsp\;</div>\n
LOCATION:29836 St. Croix Trail Shafer\, MN 55074
UID:e.3575.3206
SEQUENCE:3
DTSTAMP:20260421T110414Z
URL:https://business.chisagolakeschamber.com/events/details/earth-day-at-franconia-sculpture-park-3206
END:VEVENT

END:VCALENDAR
