BEGIN:VCALENDAR
VERSION:2.0
PRODID:-//ChamberMaster//Event Calendar 2.0//EN
METHOD:PUBLISH
X-PUBLISHED-TTL:P3D
REFRESH-INTERVAL:P3D
CALSCALE:GREGORIAN
BEGIN:VEVENT
DTSTART:20220422T230000Z
DTEND:20220423T010000Z
X-MICROSOFT-CDO-ALLDAYEVENT:FALSE
SUMMARY:Earth Day Poetry & Prose Night
DESCRIPTION:Join us for an evening of Poetry & Prose. Join writers Heidi Barr\, Heidi Fettig Parton\, Kathleen Melin\, Debbie Trantow\, and Ellie Rogers as they share works with a focus on the Earth and conservation.\n\nBring your own writings to read during open mic time\, or just relax and listen!\n\nA percentage of Gl dje's proceeds will be donated to a local conservation organization.
X-ALT-DESC;FMTTYPE=text/html:<div class="kvgmc6g5 cxmmr5t8 oygrvhab hcukyx3x c1et5uql" style="overflow-wrap: break-word\; margin: 0px\; font-family: &quot\;Segoe UI Historic&quot\;\, &quot\;Segoe UI&quot\;\, Helvetica\, Arial\, sans-serif\; color: rgb(5\, 5\, 5)\; font-size: 15px\;">Join us for an evening of Poetry &amp\; Prose. Join writers Heidi Barr\, Heidi Fettig Parton\, Kathleen Melin\, Debbie Trantow\, and Ellie Rogers as they share works with a focus on the Earth and conservation.</div>\n\n<div class="cxmmr5t8 oygrvhab hcukyx3x c1et5uql o9v6fnle" style="overflow-wrap: break-word\; margin: 0.5em 0px 0px\; font-family: &quot\;Segoe UI Historic&quot\;\, &quot\;Segoe UI&quot\;\, Helvetica\, Arial\, sans-serif\; color: rgb(5\, 5\, 5)\; font-size: 15px\;">Bring your own writings to read during open mic time\, or just relax and listen!</div>\n\n<div class="cxmmr5t8 oygrvhab hcukyx3x c1et5uql o9v6fnle" style="overflow-wrap: break-word\; margin: 0.5em 0px 0px\; font-family: &quot\;Segoe UI Historic&quot\;\, &quot\;Segoe UI&quot\;\, Helvetica\, Arial\, sans-serif\; color: rgb(5\, 5\, 5)\; font-size: 15px\;">A percentage of Gl&auml\;dje&#39\;s proceeds will be donated to a local conservation organization.</div>\n
LOCATION:13025 Lake Blvd Lindstrom\, MN 55045
UID:e.3575.3404
SEQUENCE:3
DTSTAMP:20260421T110151Z
URL:https://business.chisagolakeschamber.com/events/details/earth-day-poetry-prose-night-3404
END:VEVENT

END:VCALENDAR
