BEGIN:VCALENDAR
VERSION:2.0
PRODID:-//ChamberMaster//Event Calendar 2.0//EN
METHOD:PUBLISH
X-PUBLISHED-TTL:P3D
REFRESH-INTERVAL:P3D
CALSCALE:GREGORIAN
BEGIN:VEVENT
DTSTART:20200218T130000Z
DTEND:20200218T170000Z
X-MICROSOFT-CDO-ALLDAYEVENT:FALSE
SUMMARY:Eat Ice Cream For Breakfast Day - #TeamDylan
DESCRIPTION:We are hosting a fundraiser for #TeamDylan from 7:00-11:00 am on Tuesday\, February 18th\, on Eat Ice Cream for Breakfast Day. 30% of pre-tax sales will be donated to the family.\n\n\n\nDylan is a 7th grade student at Chisago Lakes Middle School battling Leukemia. He is a 13 year old who enjoys playing football\, basketball\, and soccer.\n\n\n\nCome out\, eat some awesome ice cream for breakfast\, and support Dylan and his family. #TeamDylan\n\n\n\nFacebook event link:\n\nhttps://www.facebook.com/events/339298437027108/\n\n#EatIceCreamForBreakfast\n\neaticecreamforbreakfast.com
X-ALT-DESC;FMTTYPE=text/html:<span style="color:rgb(29\, 33\, 41)\; font-family:system-ui\,-apple-system\,system-ui\,.sfnstext-regular\,sans-serif\; font-size:14px">We are hosting a fundraiser for </span><a href="https://www.facebook.com/hashtag/teamdylan" style="color: rgb(56\, 88\, 152)\; cursor: pointer\; text-decoration-line: none\; font-family: system-ui\, -apple-system\, system-ui\, &quot\;.SFNSText-Regular&quot\;\, sans-serif\; font-size: 14px\; white-space: pre-wrap\;" target="_blank">#TeamDylan</a><span style="color:rgb(29\, 33\, 41)\; font-family:system-ui\,-apple-system\,system-ui\,.sfnstext-regular\,sans-serif\; font-size:14px"> from 7:00-11:00 am on Tuesday\, February 18th\, on Eat Ice Cream for Breakfast Day. 30% of pre-tax sales will be donated to the family.</span><br />\n<br />\n<span style="color:rgb(29\, 33\, 41)\; font-family:system-ui\,-apple-system\,system-ui\,.sfnstext-regular\,sans-serif\; font-size:14px">Dylan is a 7th grade student at Chisago Lakes Middle School battling Leukemia. He is a 13 year old who enjoys playing football\, basketball\, and soccer.</span><br />\n<br />\n<span style="color:rgb(29\, 33\, 41)\; font-family:system-ui\,-apple-system\,system-ui\,.sfnstext-regular\,sans-serif\; font-size:14px">Come out\, eat some awesome ice cream for breakfast\, and support Dylan and his family. #TeamDylan<br />\n<br />\nFacebook event link:</span><br />\n<a href="https://www.facebook.com/events/339298437027108/">https://www.facebook.com/events/339298437027108/</a><br />\n#EatIceCreamForBreakfast<br />\neaticecreamforbreakfast.com<br />\n<br />\n&nbsp\;
LOCATION:Anderson's Ice Cream Shoppe 12710 Lake Blvd Lindstrom\, MN 55045
UID:e.3575.196
SEQUENCE:3
DTSTAMP:20260424T150230Z
URL:https://business.chisagolakeschamber.com/events/details/eat-ice-cream-for-breakfast-day-teamdylan-196
END:VEVENT

END:VCALENDAR
