BEGIN:VCALENDAR
VERSION:2.0
PRODID:-//ChamberMaster//Event Calendar 2.0//EN
METHOD:PUBLISH
X-PUBLISHED-TTL:P3D
REFRESH-INTERVAL:P3D
CALSCALE:GREGORIAN
BEGIN:VEVENT
DTSTART:20251206T150000Z
DTEND:20251206T210000Z
X-MICROSOFT-CDO-ALLDAYEVENT:FALSE
SUMMARY:Eichtens Cheese Annual Gift Market right on the Farm!
DESCRIPTION:Eichtens Cheese presents its annual Gift Market right on the Farm!\n\n\n\nCome and sample Eichtens Artisan Cheeses made on the third-generation family farm since 1976.\n\nPurchase Eichtens Artisan Cheeses\, Premade Gifts\, Custom Gift Boxes\, Specialty Foods.  \n\nEichtens does ship nationwide year around.  \n\n\n\nOpen to the public.
X-ALT-DESC;FMTTYPE=text/html:Eichtens Cheese presents its annual Gift Market right on the Farm!<br />\n<br />\nCome and sample Eichtens Artisan Cheeses made on the third-generation family farm since 1976.<br />\nPurchase Eichtens Artisan Cheeses\, Premade Gifts\, Custom Gift Boxes\, Specialty Foods.&nbsp\;&nbsp\;<br />\nEichtens does ship nationwide year around.&nbsp\;&nbsp\;<br />\n<br />\nOpen to the public.<br />\n&nbsp\;
LOCATION:16809 310th Street Center City MN 55012 Northside of Farm - Garage Door
UID:e.3575.9082
SEQUENCE:3
DTSTAMP:20260422T093631Z
URL:https://business.chisagolakeschamber.com/events/details/eichtens-cheese-annual-gift-market-right-on-the-farm-12-06-2025-9082
END:VEVENT

END:VCALENDAR
