BEGIN:VCALENDAR
VERSION:2.0
PRODID:-//ChamberMaster//Event Calendar 2.0//EN
METHOD:PUBLISH
X-PUBLISHED-TTL:P3D
REFRESH-INTERVAL:P3D
CALSCALE:GREGORIAN
BEGIN:VEVENT
DTSTART;VALUE=DATE:20220527
DTEND;VALUE=DATE:20220528
TRANSP:TRANSPARENT
X-MICROSOFT-CDO-ALLDAYEVENT:TRUE
SUMMARY:Eichtens Cheese Online only Spring Sale
DESCRIPTION:Eichtens Cheese Online Only Spring Sale\n\nwww.eichtenscheese.com\n\n15% Discount\n\nCoupon Code:  spring22\n\nValid until July 4th\, 2022
X-ALT-DESC;FMTTYPE=text/html:Eichtens Cheese Online Only Spring Sale<br />\nwww.eichtenscheese.com<br />\n15% Discount<br />\nCoupon Code:&nbsp\; spring22<br />\nValid until July 4th\, 2022<br />\n<br />\n&nbsp\;
LOCATION:www.eichtenscheese.com
UID:e.3575.4418
SEQUENCE:3
DTSTAMP:20260421T131635Z
URL:https://business.chisagolakeschamber.com/events/details/eichtens-cheese-online-only-spring-sale-05-27-2022-4418
END:VEVENT

END:VCALENDAR
