BEGIN:VCALENDAR
VERSION:2.0
PRODID:-//ChamberMaster//Event Calendar 2.0//EN
METHOD:PUBLISH
X-PUBLISHED-TTL:P3D
REFRESH-INTERVAL:P3D
CALSCALE:GREGORIAN
BEGIN:VEVENT
DTSTART:20200714T230000Z
DTEND:20200715T003000Z
X-MICROSOFT-CDO-ALLDAYEVENT:FALSE
SUMMARY:FACEBOOK LIVE ONLY - Franconia Dinner and Discussion:Don Edler
DESCRIPTION:Franconia Dinner & Discussion with Visiting Artist Don Edler\n\nTuesday\, July 14\, 2020 at 6pm\n\nAttend VIA FACEBOOK LIVE\, please!\n\nRegister Here\n\n\n\n**In an effort to stop the spread of COVID-19\, this Dinner & Discussion featuring Visiting Artist Mike Whiting on Tuesday\, March 17 at 6pm CST will be held via Facebook Live. Join us from the comfort of your own home and send your questions for Mike through the Facebook Live portal!\n\nFranconia's longstanding "Dinner & Discussion" lecture series invites the community to engage with visiting artists in a fun and informal setting. Artists give a one-hour presentation\, followed by dinner and a community dialogue about the work. Suggested donation of $10.\n\nConstructed from welded steel and colored with bright automotive enamels\, artist Mike Whiting's playful sculptures draw from the forms and imagery of early video gaming and computer graphics. Recognizing the extreme spareness of forms inherent to the constraints of pixel-based technologies\, Whiting states "video gaming and minimalism arrived at the same visual conclusion through different means and by opposite intentions." Whiting likewise attempts to communicate as much visual information as possible with his essential forms that combine the reductive simplicity of the minimalist movement and the sensibility of pop art in re-contextualizing cultural icons. Whiting's work can be found in numerous public and private collections\, and he has created permanent installations that can be seen in dozens of cities across the United States including: New York\, NY\; Salt Lake City\, UT\; Long Beach\, CA\; Lansing\, MI\; Denver\, CO\; Albuquerque\, NM\; and Palm Desert\, CA to name a few. Whiting holds an MFA from Pratt Institute (2002) and a BFA from Brigham Young University (2000).
X-ALT-DESC;FMTTYPE=text/html:<p>Franconia Dinner &amp\; Discussion with Visiting Artist Don Edler<br />\nTuesday\, July 14\, 2020 at 6pm<br />\nAttend VIA FACEBOOK LIVE\, please!<br />\n<strong style="color: rgb(32\, 32\, 32)\; font-family: Helvetica\; font-size: 16px\;"><a href="https://bit.ly/2MiOwGt" style="text-size-adjust: 100%\; color: rgb(0\, 124\, 137)\; font-weight: normal\;">Register Here</a></strong><br />\n<br />\n**In an effort to stop the spread of COVID-19\, this Dinner &amp\; Discussion featuring Visiting Artist Mike Whiting on Tuesday\, March 17 at 6pm CST will be held via Facebook Live. Join us from the comfort of your own home and send your questions for Mike through the Facebook Live portal!</p>\n\n<p>Franconia&rsquo\;s longstanding &ldquo\;Dinner &amp\; Discussion&rdquo\; lecture series invites the community to engage with visiting artists in a fun and informal setting. Artists give a one-hour presentation\, followed by dinner and a community dialogue about the work. Suggested donation of $10.</p>\n\n<p>Constructed from welded steel and colored with bright automotive enamels\, artist Mike Whiting&rsquo\;s playful sculptures draw from the forms and imagery of early video gaming and computer graphics. Recognizing the extreme spareness of forms inherent to the constraints of pixel-based technologies\, Whiting states &ldquo\;video gaming and minimalism arrived at the same visual conclusion through different means and by opposite intentions.&rdquo\; Whiting likewise attempts to communicate as much visual information as possible with his essential forms that combine the reductive simplicity of the minimalist movement and the sensibility of pop art in re-contextualizing cultural icons. Whiting&rsquo\;s work can be found in numerous public and private collections\, and he has created permanent installations that can be seen in dozens of cities across the United States including: New York\, NY\; Salt Lake City\, UT\; Long Beach\, CA\; Lansing\, MI\; Denver\, CO\; Albuquerque\, NM\; and Palm Desert\, CA to name a few. Whiting holds an MFA from Pratt Institute (2002) and a BFA from Brigham Young University (2000).</p>\n
LOCATION:FACEBOOK LIVE ONLY Franconia Sculpture Park 29836 St. Croix Trail Shafer\, MN 55074
UID:e.3575.266
SEQUENCE:3
DTSTAMP:20260424T090405Z
URL:https://business.chisagolakeschamber.com/events/details/facebook-live-only-franconia-dinner-and-discussion-don-edler-266
END:VEVENT

END:VCALENDAR
