BEGIN:VCALENDAR
VERSION:2.0
PRODID:-//ChamberMaster//Event Calendar 2.0//EN
METHOD:PUBLISH
X-PUBLISHED-TTL:P3D
REFRESH-INTERVAL:P3D
CALSCALE:GREGORIAN
BEGIN:VEVENT
DTSTART:20220421T223000Z
DTEND:20220422T000000Z
X-MICROSOFT-CDO-ALLDAYEVENT:FALSE
SUMMARY:Family Fun Night!
DESCRIPTION:St. Paul Lutheran Church Early Childhood/Preschool Program in Wyoming is hosting a Free Family Fun Night on April 21st where families with 2-5 year olds are invited to tour their classrooms\, and enjoy games/activities\, a pizza dinner\, and live music from Children's Entertainer\, David Landau ("Uncle Dave").\n\n\n\nTo register\, visit https://bit.ly/3CTk2nQ!
X-ALT-DESC;FMTTYPE=text/html:St. Paul Lutheran Church Early Childhood/Preschool Program in Wyoming is hosting a Free Family Fun Night on April 21st where families with 2-5 year olds are invited to tour their classrooms\, and enjoy games/activities\, a pizza dinner\, and live music from Children&#39\;s Entertainer\, David Landau (&quot\;Uncle Dave&quot\;).<br />\n<br />\n<span style="font-family:calibri\,sans-serif\;"><span style="font-size:11.0pt\;">To register\, visit <a href="https://urldefense.proofpoint.com/v2/url?u=https-3A__bit.ly_3CTk2nQ&amp\;d=DwMFaQ&amp\;c=euGZstcaTDllvimEN8b7jXrwqOf-v5A_CdpgnVfiiMM&amp\;r=ahRRyeRZeXwfZpK1liaikFEgP2HAkNfr0yJxUpjGS-s&amp\;m=Xs58Vfw_Bipa76-lByTxVlNApG28e8va3mn86Gi0O4w&amp\;s=_b8154yTmSlwuHPS3cLSq9CGJwtZ2z_gN43k44dD71E&amp\;e=">https://bit.ly/3CTk2nQ</a>!</span></span>
LOCATION:St. Paul Lutheran Church Discovery Center Pre-School and Childcare 5879 Wyoming Trail Wyoming\, MN 55092
UID:e.3575.3216
SEQUENCE:3
DTSTAMP:20260421T105850Z
URL:https://business.chisagolakeschamber.com/events/details/family-fun-night-3216
END:VEVENT

END:VCALENDAR
