BEGIN:VCALENDAR
VERSION:2.0
PRODID:-//ChamberMaster//Event Calendar 2.0//EN
METHOD:PUBLISH
X-PUBLISHED-TTL:P3D
REFRESH-INTERVAL:P3D
CALSCALE:GREGORIAN
BEGIN:VEVENT
DTSTART:20201031T210000Z
DTEND:20201101T000000Z
X-MICROSOFT-CDO-ALLDAYEVENT:FALSE
SUMMARY:Family Trick-Or-Treat at A Pro Pool & Spa
DESCRIPTION:Before or after you go trick-or-treating on Halloween\, stop by A-Pro Pool & Spa for hot dogs\, nachos & cheese\, drinks\, full-size candy bars\, games and a special Halloween gift bag!   Flyer
X-ALT-DESC;FMTTYPE=text/html:Before or after you go trick-or-treating on Halloween\, stop by A-Pro Pool &amp\; Spa for hot dogs\, nachos &amp\; cheese\, drinks\, full-size candy bars\, games and a special Halloween gift bag!&nbsp\; &nbsp\;<a href="http://www.chisagolakeschamber.com/wp-content/uploads/2020/10/A-Pro-Family-Trick-or-Treat-on-Halloween.pdf">Flyer</a>
LOCATION:A-Pro Pool & Spa 11876 Lake Lane\, Lindstrom
UID:e.3575.323
SEQUENCE:3
DTSTAMP:20260424T051615Z
URL:https://business.chisagolakeschamber.com/events/details/family-trick-or-treat-at-a-pro-pool-spa-323
END:VEVENT

END:VCALENDAR
