BEGIN:VCALENDAR
VERSION:2.0
PRODID:-//ChamberMaster//Event Calendar 2.0//EN
METHOD:PUBLISH
X-PUBLISHED-TTL:P3D
REFRESH-INTERVAL:P3D
CALSCALE:GREGORIAN
BEGIN:VEVENT
DTSTART;VALUE=DATE:20220514
DTEND;VALUE=DATE:20220516
TRANSP:TRANSPARENT
X-MICROSOFT-CDO-ALLDAYEVENT:TRUE
SUMMARY:Fantasy of the Lakes Festival
DESCRIPTION:Fantasy of the Lakes Festival ~ A Fantasy Renaissance with Family Friendly Fun!
X-ALT-DESC;FMTTYPE=text/html:<span style="font-size:14px\;"><span style="font-family:arial\;">Fantasy of the Lakes Festival ~ A Fantasy Renaissance with Family Friendly Fun!</span></span>
LOCATION:Beach Park 12505 Newell Avenue Lindstrom\, MN 55045
UID:e.3575.3413
SEQUENCE:3
DTSTAMP:20260421T120217Z
URL:https://business.chisagolakeschamber.com/events/details/fantasy-of-the-lakes-festival-3413
END:VEVENT

END:VCALENDAR
