BEGIN:VCALENDAR
VERSION:2.0
PRODID:-//ChamberMaster//Event Calendar 2.0//EN
METHOD:PUBLISH
X-PUBLISHED-TTL:P3D
REFRESH-INTERVAL:P3D
CALSCALE:GREGORIAN
BEGIN:VEVENT
DTSTART;VALUE=DATE:20221029
DTEND;VALUE=DATE:20221031
TRANSP:TRANSPARENT
X-MICROSOFT-CDO-ALLDAYEVENT:TRUE
SUMMARY:Federweisser Festival at Winehaven!
DESCRIPTION:The grape harvest is now over and the new wines are quietly maturing in our stainless steel tanks. During this special weekend\, Winehaven will be embracing the German tradition of allowing guests to sample the new wine directly form the cask! It's not juice anymore\, but it's not finished wine either. Whatever it is\, it's delicious!
X-ALT-DESC;FMTTYPE=text/html:The grape harvest is now over and the new wines are quietly maturing in our stainless steel tanks. During this special weekend\, Winehaven will be embracing the German tradition of allowing guests to sample the new wine directly form the cask! It&#39\;s not juice anymore\, but it&#39\;s not finished wine either. Whatever it is\, it&#39\;s delicious!&nbsp\;
LOCATION:Winehaven Winery and Vineyard 10020 Deer Garden Lane Chisago City\, MN 55013
UID:e.3575.3060
SEQUENCE:3
DTSTAMP:20260422T215557Z
URL:https://business.chisagolakeschamber.com/events/details/federweisser-festival-at-winehaven-3060
END:VEVENT

END:VCALENDAR
