BEGIN:VCALENDAR
VERSION:2.0
PRODID:-//ChamberMaster//Event Calendar 2.0//EN
METHOD:PUBLISH
X-PUBLISHED-TTL:P3D
REFRESH-INTERVAL:P3D
CALSCALE:GREGORIAN
BEGIN:VEVENT
DTSTART:20200719T020000Z
DTEND:20200719T040000Z
X-MICROSOFT-CDO-ALLDAYEVENT:FALSE
SUMMARY:Film @ Franconia: Fantastic Fungi and Fly Amanita
DESCRIPTION:This new monthly summer film series features free outdoor films at Franconia\, highlighting the best in art films\, past and present. Parking: $5/car. Snacks/Drinks available for purchase. All films start promptly at 9pm.  Register Here
X-ALT-DESC;FMTTYPE=text/html:<span style="color: rgb(32\, 32\, 32)\; font-family: Helvetica\; font-size: 16px\;">This new monthly summer film series features free outdoor films at Franconia\, highlighting the best in art films\, past and present. Parking: $5/car. Snacks/Drinks available for purchase. All films start promptly at 9pm.&nbsp\;&nbsp\;</span><strong style="color: rgb(32\, 32\, 32)\; font-family: Helvetica\; font-size: 16px\;"><a href="https://bit.ly/2MiOwGt" style="text-size-adjust: 100%\; color: rgb(0\, 124\, 137)\; font-weight: normal\;">Register Here</a></strong>
LOCATION:Franconia Sculpture Park 29836 St. Croix Trail Shafer\, MN 55074 651-257-6668
UID:e.3575.267
SEQUENCE:3
DTSTAMP:20260424T090744Z
URL:https://business.chisagolakeschamber.com/events/details/film-franconia-fantastic-fungi-and-fly-amanita-267
END:VEVENT

END:VCALENDAR
