BEGIN:VCALENDAR
VERSION:2.0
PRODID:-//ChamberMaster//Event Calendar 2.0//EN
METHOD:PUBLISH
X-PUBLISHED-TTL:P3D
REFRESH-INTERVAL:P3D
CALSCALE:GREGORIAN
BEGIN:VEVENT
DTSTART:20200723T230000Z
DTEND:20200724T020000Z
X-MICROSOFT-CDO-ALLDAYEVENT:FALSE
SUMMARY:Flower Pop Up at Uncommon Loon Brewing
DESCRIPTION:T and Nae are hitting the road and hosting a Flower Pop Up at Uncommon Loon Brewing Co. They will be here in The Ninny with fresh cut flower bouquets for sale from 6pm - 9pm on July 23rd!  We hope to see you here for some Beers & Blooms!
X-ALT-DESC;FMTTYPE=text/html:<div>T and Nae are hitting the road and hosting a Flower Pop Up at Uncommon Loon Brewing Co.&nbsp\;They will&nbsp\;be here in The Ninny with fresh cut flower bouquets for sale from 6pm - 9pm on July 23rd!&nbsp\; We hope to see you here for some Beers &amp\; Blooms!</div>\n
LOCATION:Uncommon Loon Brewing Co. 10825 Lake Blvd. Chisago City\, MN
UID:e.3575.261
SEQUENCE:3
DTSTAMP:20260424T090013Z
URL:https://business.chisagolakeschamber.com/events/details/flower-pop-up-261
END:VEVENT

END:VCALENDAR
