BEGIN:VCALENDAR
VERSION:2.0
PRODID:-//ChamberMaster//Event Calendar 2.0//EN
METHOD:PUBLISH
X-PUBLISHED-TTL:P3D
REFRESH-INTERVAL:P3D
CALSCALE:GREGORIAN
BEGIN:VEVENT
DTSTART:20221015T170000Z
DTEND:20221016T020000Z
X-MICROSOFT-CDO-ALLDAYEVENT:FALSE
SUMMARY:franc 'n' stein Halloween & Octoberfest Celebration at Franconia
DESCRIPTION:Visit our 50-acre outdoor museum on October 15\, 2022 from 12 pm to 9 pm to taste sausages (francs) and sample local beers (steins). Enjoy a trick-or-treating hayride through the park\, enter costume contests for dogs or humans\, carve pumpkins\, make art\, dance to some polka\, and enjoy a Rocky Horror Picture Show sing-a-long! There will be a wide variety of family friendly  and dog-friendly!  art activities throughout the day!\n\nSCHEDULE OF EVENTS:\n\n12PM-1PM: Land Art Tour by Franconia's Executive Director & Chief Curator\n\nJoin Franconia's Executive Director & Chief Curator Ginger Shulick Porcella as she gives a guided tour of the sculpture park. The tour will start at the entrance to Franconia Commons.\n\n1PM-3PM: Trick or Treat Hayrides in the Park\n\n1PM-5PM: Free Art Making Activities\n\nPumpkin Carving\, sponsored by Pleasant Valley Farm\n\nHalloween Button-Making\n\nPrintmaking with Natural Materials\n\nFace Painting\n\n\n\n\n3PM-4PM: Dog Costume Contest sponsored by Northwoods Humane Society\n\nSign-ups start at 2pm on the Front Lawn\n\n\n4PM-5PM: Human Costume Contest\n\nSign-ups start at 2pm on the Front Lawn\n\n5PM-6:30PM: Live Polka with Adam & The Jolly Jammers\n\nin the Amphitheater\n\n6:30PM-8PM: Rocky Horror Picture Show Sing-a-Long\n\nin the Amphitheater\n\n8PM-9PM: Bonfire\, Hot Apple Cider & S'mores\n\nat the Commons Patio
X-ALT-DESC;FMTTYPE=text/html:<p class="p1" style="box-sizing: border-box\; margin: 0px\; padding: 0px 0px 1em\; border: 0px\; outline: 0px\; font-size: 14px\; text-size-adjust: 100%\; vertical-align: baseline\; background-image: initial\; background-position: initial\; background-size: initial\; background-repeat: initial\; background-attachment: initial\; background-origin: initial\; background-clip: initial\; color: rgb(102\, 102\, 102)\; font-family: &quot\;Noto Sans&quot\;\, Helvetica\, Arial\, Lucida\, sans-serif\;"><span style="box-sizing: border-box\; margin: 0px\; padding: 0px\; border: 0px\; outline: 0px\; text-size-adjust: 100%\; vertical-align: baseline\; background: transparent\; font-family: inherit\;">Visit our 50-acre outdoor museum on October 15\, 2022 from 12 pm to 9 pm to taste sausages (francs) and sample local beers (steins). Enjoy a trick-or-treating hayride through the park\, enter costume contests for dogs or humans\, carve pumpkins\, make art\, dance to some polka\, and enjoy a Rocky Horror Picture Show sing-a-long! There will be a wide variety of family friendly&ndash\;&ndash\;and dog-friendly!&ndash\;&ndash\;art activities throughout the day!</span></p>\n\n<p class="p1" style="box-sizing: border-box\; margin: 0px\; padding: 0px 0px 1em\; border: 0px\; outline: 0px\; font-size: 14px\; text-size-adjust: 100%\; vertical-align: baseline\; background-image: initial\; background-position: initial\; background-size: initial\; background-repeat: initial\; background-attachment: initial\; background-origin: initial\; background-clip: initial\; color: rgb(102\, 102\, 102)\; font-family: &quot\;Noto Sans&quot\;\, Helvetica\, Arial\, Lucida\, sans-serif\;"><span style="box-sizing: border-box\; margin: 0px\; padding: 0px\; border: 0px\; outline: 0px\; text-size-adjust: 100%\; vertical-align: baseline\; background: transparent\; text-decoration-line: underline\;"><span style="box-sizing: border-box\; margin: 0px\; padding: 0px\; border: 0px\; outline: 0px\; text-size-adjust: 100%\; vertical-align: baseline\; background: transparent\; font-weight: 700\; font-family: inherit\;">SCHEDULE OF EVENTS:</span></span></p>\n\n<p class="p1" style="box-sizing: border-box\; margin: 0px\; padding: 0px 0px 1em\; border: 0px\; outline: 0px\; font-size: 14px\; text-size-adjust: 100%\; vertical-align: baseline\; background-image: initial\; background-position: initial\; background-size: initial\; background-repeat: initial\; background-attachment: initial\; background-origin: initial\; background-clip: initial\; color: rgb(102\, 102\, 102)\; font-family: &quot\;Noto Sans&quot\;\, Helvetica\, Arial\, Lucida\, sans-serif\;"><span style="box-sizing: border-box\; margin: 0px\; padding: 0px\; border: 0px\; outline: 0px\; text-size-adjust: 100%\; vertical-align: baseline\; background: transparent\; font-family: inherit\;"><span style="box-sizing: border-box\; margin: 0px\; padding: 0px\; border: 0px\; outline: 0px\; text-size-adjust: 100%\; vertical-align: baseline\; background: transparent\; font-weight: 700\;">12PM-1PM: Land Art Tour by Franconia&rsquo\;s Executive Director &amp\; Chief Curator</span><br style="box-sizing: border-box\;" />\n<span style="box-sizing: border-box\; margin: 0px\; padding: 0px\; border: 0px\; outline: 0px\; text-size-adjust: 100%\; vertical-align: baseline\; background: transparent\;">Join Franconia&rsquo\;s Executive Director &amp\; Chief Curator Ginger Shulick Porcella as she gives a guided tour of the sculpture park. The tour will start at the entrance to Franconia Commons.</span></span></p>\n\n<p class="p1" style="box-sizing: border-box\; margin: 0px\; padding: 0px 0px 1em\; border: 0px\; outline: 0px\; font-size: 14px\; text-size-adjust: 100%\; vertical-align: baseline\; background-image: initial\; background-position: initial\; background-size: initial\; background-repeat: initial\; background-attachment: initial\; background-origin: initial\; background-clip: initial\; color: rgb(102\, 102\, 102)\; font-family: &quot\;Noto Sans&quot\;\, Helvetica\, Arial\, Lucida\, sans-serif\;"><span style="box-sizing: border-box\; margin: 0px\; padding: 0px\; border: 0px\; outline: 0px\; text-size-adjust: 100%\; vertical-align: baseline\; background: transparent\; font-weight: 700\;">1PM-3PM: Trick or Treat Hayrides in the Park</span></p>\n\n<div class="l7ghb35v kjdc1dyq kmwttqpk gh25dzvf jikcssrz" style="box-sizing: border-box\; margin: 0px\; padding: 0px\; border: 0px\; outline: 0px\; font-size: 14px\; text-size-adjust: 100%\; vertical-align: baseline\; background-image: initial\; background-position: initial\; background-size: initial\; background-repeat: initial\; background-attachment: initial\; background-origin: initial\; background-clip: initial\; color: rgb(102\, 102\, 102)\; font-family: &quot\;Noto Sans&quot\;\, Helvetica\, Arial\, Lucida\, sans-serif\;"><span style="box-sizing: border-box\; margin: 0px\; padding: 0px\; border: 0px\; outline: 0px\; text-size-adjust: 100%\; vertical-align: baseline\; background: transparent\; font-weight: 700\;">1PM-5PM: Free Art Making Activities</span><br style="box-sizing: border-box\;" />\nPumpkin Carving\, sponsored by Pleasant Valley Farm<br style="box-sizing: border-box\;" />\nHalloween Button-Making<br style="box-sizing: border-box\;" />\nPrintmaking with Natural Materials<br style="box-sizing: border-box\;" />\nFace Painting</div>\n\n<div class="l7ghb35v kjdc1dyq kmwttqpk gh25dzvf jikcssrz" style="box-sizing: border-box\; margin: 0px\; padding: 0px\; border: 0px\; outline: 0px\; font-size: 14px\; text-size-adjust: 100%\; vertical-align: baseline\; background-image: initial\; background-position: initial\; background-size: initial\; background-repeat: initial\; background-attachment: initial\; background-origin: initial\; background-clip: initial\; color: rgb(102\, 102\, 102)\; font-family: &quot\;Noto Sans&quot\;\, Helvetica\, Arial\, Lucida\, sans-serif\;">\n<p class="p1" style="box-sizing: border-box\; margin: 0px\; padding: 0px 0px 1em\; border: 0px\; outline: 0px\; text-size-adjust: 100%\; vertical-align: baseline\; background: transparent\;"><br />\n<span style="box-sizing: border-box\; margin: 0px\; padding: 0px\; border: 0px\; outline: 0px\; text-size-adjust: 100%\; vertical-align: baseline\; background: transparent\; font-weight: 700\;">3PM-4PM: Dog Costume Contest sponsored by Northwoods Humane Society</span><br style="box-sizing: border-box\;" />\n<span style="box-sizing: border-box\; margin: 0px\; padding: 0px\; border: 0px\; outline: 0px\; text-size-adjust: 100%\; vertical-align: baseline\; background: transparent\;">Sign-ups start at 2pm on the Front Lawn</span></p>\n</div>\n\n<p class="p1" style="box-sizing: border-box\; margin: 0px\; padding: 0px 0px 1em\; border: 0px\; outline: 0px\; font-size: 14px\; text-size-adjust: 100%\; vertical-align: baseline\; background-image: initial\; background-position: initial\; background-size: initial\; background-repeat: initial\; background-attachment: initial\; background-origin: initial\; background-clip: initial\; color: rgb(102\, 102\, 102)\; font-family: &quot\;Noto Sans&quot\;\, Helvetica\, Arial\, Lucida\, sans-serif\;"><span style="box-sizing: border-box\; margin: 0px\; padding: 0px\; border: 0px\; outline: 0px\; text-size-adjust: 100%\; vertical-align: baseline\; background: transparent\;"><span style="box-sizing: border-box\; margin: 0px\; padding: 0px\; border: 0px\; outline: 0px\; text-size-adjust: 100%\; vertical-align: baseline\; background: transparent\; font-weight: 700\;">4PM-5PM: Human Costume Contest</span><br style="box-sizing: border-box\;" />\nSign-ups start at 2pm on the Front Lawn</span></p>\n\n<p class="p1" style="box-sizing: border-box\; margin: 0px\; padding: 0px 0px 1em\; border: 0px\; outline: 0px\; font-size: 14px\; text-size-adjust: 100%\; vertical-align: baseline\; background-image: initial\; background-position: initial\; background-size: initial\; background-repeat: initial\; background-attachment: initial\; background-origin: initial\; background-clip: initial\; color: rgb(102\, 102\, 102)\; font-family: &quot\;Noto Sans&quot\;\, Helvetica\, Arial\, Lucida\, sans-serif\;"><span style="box-sizing: border-box\; margin: 0px\; padding: 0px\; border: 0px\; outline: 0px\; text-size-adjust: 100%\; vertical-align: baseline\; background: transparent\;"><span style="box-sizing: border-box\; margin: 0px\; padding: 0px\; border: 0px\; outline: 0px\; text-size-adjust: 100%\; vertical-align: baseline\; background: transparent\; font-weight: 700\;">5PM-6:30PM: Live Polka with Adam &amp\; The Jolly Jammers</span><br style="box-sizing: border-box\;" />\nin the Amphitheater</span></p>\n\n<p class="p1" style="box-sizing: border-box\; margin: 0px\; padding: 0px 0px 1em\; border: 0px\; outline: 0px\; font-size: 14px\; text-size-adjust: 100%\; vertical-align: baseline\; background-image: initial\; background-position: initial\; background-size: initial\; background-repeat: initial\; background-attachment: initial\; background-origin: initial\; background-clip: initial\; color: rgb(102\, 102\, 102)\; font-family: &quot\;Noto Sans&quot\;\, Helvetica\, Arial\, Lucida\, sans-serif\;"><span style="box-sizing: border-box\; margin: 0px\; padding: 0px\; border: 0px\; outline: 0px\; text-size-adjust: 100%\; vertical-align: baseline\; background: transparent\; font-weight: 700\;">6:30PM-8PM: Rocky Horror Picture Show Sing-a-Long</span><br style="box-sizing: border-box\;" />\n<span style="box-sizing: border-box\; margin: 0px\; padding: 0px\; border: 0px\; outline: 0px\; text-size-adjust: 100%\; vertical-align: baseline\; background: transparent\;">in the Amphitheater</span></p>\n\n<p class="p1" style="box-sizing: border-box\; margin: 0px\; padding: 0px 0px 1em\; border: 0px\; outline: 0px\; font-size: 14px\; text-size-adjust: 100%\; vertical-align: baseline\; background-image: initial\; background-position: initial\; background-size: initial\; background-repeat: initial\; background-attachment: initial\; background-origin: initial\; background-clip: initial\; color: rgb(102\, 102\, 102)\; font-family: &quot\;Noto Sans&quot\;\, Helvetica\, Arial\, Lucida\, sans-serif\;"><span style="box-sizing: border-box\; margin: 0px\; padding: 0px\; border: 0px\; outline: 0px\; text-size-adjust: 100%\; vertical-align: baseline\; background: transparent\; font-weight: 700\;">8PM-9PM: Bonfire\, Hot Apple Cider &amp\; S&rsquo\;mores</span><br style="box-sizing: border-box\;" />\n<span style="box-sizing: border-box\; margin: 0px\; padding: 0px\; border: 0px\; outline: 0px\; text-size-adjust: 100%\; vertical-align: baseline\; background: transparent\;">at the Commons Patio</span></p>\n
LOCATION:Franconia Sculpture Park Shafer\, MN
UID:e.3575.5111
SEQUENCE:3
DTSTAMP:20260422T215609Z
URL:https://business.chisagolakeschamber.com/events/details/franc-n-stein-halloween-octoberfest-celebration-at-franconia-5111
END:VEVENT

END:VCALENDAR
