BEGIN:VCALENDAR
VERSION:2.0
PRODID:-//ChamberMaster//Event Calendar 2.0//EN
METHOD:PUBLISH
X-PUBLISHED-TTL:P3D
REFRESH-INTERVAL:P3D
CALSCALE:GREGORIAN
BEGIN:VEVENT
DTSTART:20221002T150000Z
DTEND:20221002T190000Z
X-MICROSOFT-CDO-ALLDAYEVENT:FALSE
SUMMARY:Franconia Art & Farmers Market
DESCRIPTION:Franconia Art & Farmers Market\n\nThe first Sunday of each month\, May-October from 10am-2pm\, local farmers and artists come together to provide a variety of fresh produce and handmade crafts to our 180\,000 annual visitors. Each event is a fun way for people to connect directly with the local farmers and artists in the St. Croix River Valley.\n\n\n\n2022 Vendors List
X-ALT-DESC;FMTTYPE=text/html:<div><span style="font-size:14px\;"><span style="font-family:arial\;"><strong>Franconia Art &amp\; Farmers Market</strong></span></span></div>\n\n<div><span style="font-size:14px\;"><span style="font-family:arial\;"><span style="color: rgb(102\, 102\, 102)\;">The first Sunday of each month\, May-October from 10am-2pm\, local farmers and artists come together to provide a variety of fresh produce and handmade crafts to our 180\,000 annual visitors. Each event is a fun way for people to connect directly with the local farmers and artists in the St. Croix River Valley.</span></span><br>\n<br>\n<a href="https://www.franconia.org/farmers-market/"><strong>2022 Vendors List&nbsp\;</strong></a></span></div>\n
LOCATION:Franconia Sculpture Park 29836 St. Croix Trail Shafer\, MN 55074
UID:e.3575.4697
SEQUENCE:3
DTSTAMP:20260423T010109Z
URL:https://business.chisagolakeschamber.com/events/details/franconia-art-farmers-market-10-02-2022-4697
END:VEVENT

END:VCALENDAR
