BEGIN:VCALENDAR
VERSION:2.0
PRODID:-//ChamberMaster//Event Calendar 2.0//EN
METHOD:PUBLISH
X-PUBLISHED-TTL:P3D
REFRESH-INTERVAL:P3D
CALSCALE:GREGORIAN
BEGIN:VEVENT
DTSTART:20210330T230000Z
DTEND:20210331T003000Z
X-MICROSOFT-CDO-ALLDAYEVENT:FALSE
SUMMARY:Franconia Dinner and Discussion: Super Futures Haunt Qollective
DESCRIPTION:Attend via Facebook Live ONLY\, please!\n\nFor this special "Dinner & Discussion" with Franconia Visiting Artists Super Futures Haunt Qollective\, SFHQ will discuss beavers\, their upcoming exhibition at Franconia opening April 24\, as well as their previous work. SFHQ will also lead a participatory activity with the audience where we collectively imagine a conversation with future ancestors. Franconia's longstanding "Dinner & Discussion" lecture series invites the community to engage with visiting artists in a fun and informal setting. Please join us from the comfort of your own home and send your questions for SFHQ through Facebook Live!
X-ALT-DESC;FMTTYPE=text/html:<p>Attend via Facebook Live ONLY\, please!</p>\n\n<p style="margin: 0px\; padding: 0px\; color: rgb(102\, 102\, 102)\; font-family: Roboto\, &quot\;Lucida Grande&quot\;\, arial\, sans-serif\; font-size: 14px\; text-align: justify\;">For this special &ldquo\;Dinner &amp\; Discussion&rdquo\; with Franconia Visiting Artists Super Futures Haunt Qollective\, SFHQ will discuss beavers\, their upcoming exhibition at Franconia opening April 24\, as well as their previous work. SFHQ will also lead a participatory activity with the audience where we collectively imagine a conversation with future ancestors. Franconia&rsquo\;s longstanding &ldquo\;Dinner &amp\; Discussion&rdquo\; lecture series invites the community to engage with visiting artists in a fun and informal setting. Please join us from the comfort of your own home and send your questions for SFHQ through Facebook Live!</p>\n
LOCATION:Franconia Sculpture Park 29836 St. Croix Trail Shafer\, MN 55074
UID:e.3575.362
SEQUENCE:3
DTSTAMP:20260423T161229Z
URL:https://business.chisagolakeschamber.com/events/details/franconia-dinner-and-discussion-super-futures-haunt-qollective-362
END:VEVENT

END:VCALENDAR
