BEGIN:VCALENDAR
VERSION:2.0
PRODID:-//ChamberMaster//Event Calendar 2.0//EN
METHOD:PUBLISH
X-PUBLISHED-TTL:P3D
REFRESH-INTERVAL:P3D
CALSCALE:GREGORIAN
BEGIN:VEVENT
DTSTART:20201205T180000Z
DTEND:20201205T220000Z
X-MICROSOFT-CDO-ALLDAYEVENT:FALSE
SUMMARY:Franconia Frost Fest & Holiday Market
DESCRIPTION:Frost Fest @ Franconia\, a holiday market and bazaar where shoppers will find unique gifts by local artisans and vendors. The event will coincide with the launch of Franconia's free community ice rink\, a combination recreational ice-skating rink. The centerpiece of the ice rink will highlight a new outdoor\, site-specific light-sculpture by internationally-renowned artist Jason Peters. Open for free daily 8:00am-8:00pm through February (weather permitting). 2020 Vendors are listed on the website. Reservations are required for this free event. Click Here to reserve your timed tickets.
X-ALT-DESC;FMTTYPE=text/html:<p style="margin: 0px\; padding: 0px\; color: rgb(102\, 102\, 102)\; font-family: Roboto\, &quot\;Lucida Grande&quot\;\, arial\, sans-serif\; font-size: 14px\;">Frost Fest @ Franconia\, a holiday market and bazaar where shoppers will find unique gifts by local artisans and vendors. The event will coincide with the launch of Franconia&rsquo\;s free community ice rink\, a combination recreational ice-skating rink. The centerpiece of the ice rink will highlight a new outdoor\, site-specific light-sculpture by internationally-renowned artist Jason Peters. Open for free daily 8:00am-8:00pm through February (weather permitting). 2020 Vendors are listed on the&nbsp\;<a data-id="l-8705162225" href="https://www.franconia.org/frost-fest/" o-href="https%3A%2F%2Fwww.franconia.org%2Ffrost-fest%2F" rel="nofollow" style="cursor: pointer\; color: rgb(28\, 110\, 152)\;" target="_blank" track-href="https://www.smore.com/app/reporting/out/w2zsh?u=https%253A%252F%252Fwww.franconia.org%252Ffrost-fest%252F&amp\;t=website.&amp\;w=w-4205793509&amp\;i=&amp\;l=l-8705162225">website.</a>&nbsp\;<span style="font-style: inherit\; font-weight: 700\;">Reservations are required for this free event.&nbsp\;<a data-id="l-3258677700" href="https://www.franconia.org/frost-fest/?fbclid=IwAR19E1hSU5rXeCO7ZdrdBz-urSKJusY_DINl_ojIq-IbFbpXr6r4zdbjCDE" o-href="https%3A%2F%2Fwww.franconia.org%2Ffrost-fest%2F%3Ffbclid%3DIwAR19E1hSU5rXeCO7ZdrdBz-urSKJusY_DINl_ojIq-IbFbpXr6r4zdbjCDE" rel="nofollow" style="cursor: pointer\; color: rgb(28\, 110\, 152)\;" target="_blank" track-href="https://www.smore.com/app/reporting/out/w2zsh?u=https%253A%252F%252Fwww.franconia.org%252Ffrost-fest%252F%253Ffbclid%253DIwAR19E1hSU5rXeCO7ZdrdBz-urSKJusY_DINl_ojIq-IbFbpXr6r4zdbjCDE&amp\;t=Click%20Here&amp\;w=w-4205793509&amp\;i=&amp\;l=l-3258677700">Click Here</a>&nbsp\;to reserve your timed tickets.</span></p>\n
LOCATION:29836 St. Croix Trail\, Shafer
UID:e.3575.332
SEQUENCE:3
DTSTAMP:20260424T035657Z
URL:https://business.chisagolakeschamber.com/events/details/franconia-frost-fest-holiday-market-332
END:VEVENT

END:VCALENDAR
