BEGIN:VCALENDAR
VERSION:2.0
PRODID:-//ChamberMaster//Event Calendar 2.0//EN
METHOD:PUBLISH
X-PUBLISHED-TTL:P3D
REFRESH-INTERVAL:P3D
CALSCALE:GREGORIAN
BEGIN:VEVENT
DTSTART:20210417T140000Z
DTEND:20210417T170000Z
X-MICROSOFT-CDO-ALLDAYEVENT:FALSE
SUMMARY:Free Shredding Event
DESCRIPTION:Empire Insurance Group is sponsoring this Shredding Event.\n\nThis is a great opportunity for you to securely shred old tax records and empty filing cabinets of sensitive documents.  Check out this Flyer for full details.
X-ALT-DESC;FMTTYPE=text/html:<a href="http://www.empireinsurancegroup.com">Empire Insurance Group</a> is sponsoring this Shredding Event.<br />\nThis is a great opportunity for you to securely shred old tax records and empty filing cabinets of sensitive documents.&nbsp\; Check out this&nbsp\;<a href="http://www.chisagolakeschamber.com/wp-content/uploads/2021/02/2021-Shredding-Event-1.pdf">Flyer</a>&nbsp\;for full details.&nbsp\;&nbsp\;
LOCATION:5357 Wyoming Trail Wyoming\, MN 55092
UID:e.3575.359
SEQUENCE:3
DTSTAMP:20260423T131706Z
URL:https://business.chisagolakeschamber.com/events/details/free-shredding-event-359
END:VEVENT

END:VCALENDAR
