BEGIN:VCALENDAR
VERSION:2.0
PRODID:-//ChamberMaster//Event Calendar 2.0//EN
METHOD:PUBLISH
X-PUBLISHED-TTL:P3D
REFRESH-INTERVAL:P3D
CALSCALE:GREGORIAN
BEGIN:VEVENT
DTSTART:20220416T140000Z
DTEND:20220416T170000Z
X-MICROSOFT-CDO-ALLDAYEVENT:FALSE
SUMMARY:Free Shredding Event by Empire Insurance Group
DESCRIPTION:This is a great opportunity for you to securely shred old tax records and empty filing cabinets of sensitive documents. A professional shredding service will destroy your materials as you enjoy a cup of coffee and snacks on us! Tell your family & friends so we can help them too!
X-ALT-DESC;FMTTYPE=text/html:This is a great opportunity for you to securely shred old tax records and empty filing cabinets of sensitive documents. A professional shredding service will destroy your materials as you enjoy a cup of coffee and snacks on us! Tell your family &amp\; friends so we can help them too!
LOCATION:Empire Insurance Group's parking lot (located between Casey's and Bruce's Foods on County Road 22\, just off Hwy. 61) 5357 Wyoming Trail Wyoming\, MN 55092
UID:e.3575.3221
SEQUENCE:3
DTSTAMP:20260421T110040Z
URL:https://business.chisagolakeschamber.com/events/details/free-shredding-event-by-empire-insurance-group-3221
END:VEVENT

END:VCALENDAR
