BEGIN:VCALENDAR
VERSION:2.0
PRODID:-//ChamberMaster//Event Calendar 2.0//EN
METHOD:PUBLISH
X-PUBLISHED-TTL:P3D
REFRESH-INTERVAL:P3D
CALSCALE:GREGORIAN
BEGIN:VEVENT
DTSTART:20210725T180000Z
DTEND:20210725T210000Z
X-MICROSOFT-CDO-ALLDAYEVENT:FALSE
SUMMARY:Fun and Learn KUBB at the Karl Oskar House
DESCRIPTION:Mark Peterson\, local KUBB enthusiast will demonstrate and teach us to play this fun Swedish wooden yard toss game.\nMark has been leading the KUBB excitement in the Chisago Lakes area for several years. This is your chance to learn the Swedish lawn game rumored to be played by the Vikings.  KUBB can be enjoyed by all ages. Bring your lawnchair to spectate and check it out or plan to join in the fun. Mark will return on  September 12 for another chance to learn the game.
X-ALT-DESC;FMTTYPE=text/html:&nbsp\;<br />\n<strong><span style="font-family:calibri\,sans-serif"><span style="font-size:12.0pt">Mark Peterson</span></span></strong><span style="font-family:calibri\,sans-serif"><span style="font-size:12.0pt">\, local KUBB </span></span><span style="color:#1F497D"><span style="font-family:calibri\,sans-serif"><span style="font-size:12.0pt">enthusiast</span></span></span><span style="font-family:calibri\,sans-serif"><span style="font-size:12.0pt"> will demonstrate and teach us to play this fun Swedish wooden yard toss game.</span></span>\n<div><span style="font-family:calibri\,sans-serif"><span style="font-size:12.0pt">Mark has been leading the KUBB excitement in the Chisago Lakes area for several years. This is your chance to learn the Swedish lawn game rumored to be played by the Vikings.&nbsp\; KUBB can be enjoyed by all ages. Bring your lawnchair to spectate and check it out or plan to join in the fun. Mark will return on&nbsp\; September 12 for another chance to learn the game.</span></span></div>\n
LOCATION:Karl Oskar House on Glader Blvd\, Lindstrom MN
UID:e.3575.1687
SEQUENCE:3
DTSTAMP:20260421T094737Z
URL:https://business.chisagolakeschamber.com/events/details/fun-and-learn-kubb-at-the-karl-oskar-house-1687
END:VEVENT

END:VCALENDAR
