BEGIN:VCALENDAR
VERSION:2.0
PRODID:-//ChamberMaster//Event Calendar 2.0//EN
METHOD:PUBLISH
X-PUBLISHED-TTL:P3D
REFRESH-INTERVAL:P3D
CALSCALE:GREGORIAN
BEGIN:VEVENT
DTSTART:20200709T223000Z
DTEND:20200710T013000Z
X-MICROSOFT-CDO-ALLDAYEVENT:FALSE
SUMMARY:Glen Everhart LIVE at The Loon
DESCRIPTION:Glen Everhart is an "Acoustic Loop Artist" that performs fun and unique arrangements of songs of all genres from the 60's to contemporary hits!  Glen creates "loops" - short segments of percussion\, guitar\, and vocals - that fit together to create complete versions of songs.  Come out this Thursday for a fresh craft beer and enjoy the sounds from Glen.
X-ALT-DESC;FMTTYPE=text/html:<div>Glen Everhart is an &quot\;Acoustic Loop Artist&quot\; that&nbsp\;performs fun and unique arrangements of songs of all genres from the 60&#39\;s to contemporary hits!&nbsp\; Glen&nbsp\;creates &quot\;loops&quot\; - short segments of percussion\, guitar\, and vocals - that fit together to create complete versions of songs.&nbsp\; Come out this Thursday for a fresh craft beer and enjoy the sounds from Glen.</div>\n
LOCATION:Uncommon Loon Brewing Co 10825 Lake Blvd Chisago City MN
UID:e.3575.263
SEQUENCE:3
DTSTAMP:20260424T090132Z
URL:https://business.chisagolakeschamber.com/events/details/glen-everhart-live-at-the-loon-263
END:VEVENT

END:VCALENDAR
