BEGIN:VCALENDAR
VERSION:2.0
PRODID:-//ChamberMaster//Event Calendar 2.0//EN
METHOD:PUBLISH
X-PUBLISHED-TTL:P3D
REFRESH-INTERVAL:P3D
CALSCALE:GREGORIAN
BEGIN:VEVENT
DTSTART:20220529T010000Z
DTEND:20220529T030000Z
X-MICROSOFT-CDO-ALLDAYEVENT:FALSE
SUMMARY:Glow Mini Golf at Green Lagoon Golf
DESCRIPTION:Glow Mini Golf!\n\nAre you ready for some good night time fun? Come and play mini golf at night under the lights. We will have light up golf balls. Music\, Lights\, and Ice Cream!\n\nCost $6/person\n\nTell your friends.
X-ALT-DESC;FMTTYPE=text/html:<p><span style="font-size:16px\;"><span style="font-family:arial\;">Glow Mini Golf!</span></span></p>\n\n<div class="kvgmc6g5 cxmmr5t8 oygrvhab hcukyx3x c1et5uql" style="overflow-wrap: break-word\; margin: 0px\; font-family: &quot\;Segoe UI Historic&quot\;\, &quot\;Segoe UI&quot\;\, Helvetica\, Arial\, sans-serif\; color: rgb(5\, 5\, 5)\; font-size: 15px\;">Are you ready for some good night time fun? Come and play mini golf at night under the lights. We will have light up golf balls. Music\, Lights\, and Ice Cream!</div>\n\n<div class="cxmmr5t8 oygrvhab hcukyx3x c1et5uql o9v6fnle" style="overflow-wrap: break-word\; margin: 0.5em 0px 0px\; font-family: &quot\;Segoe UI Historic&quot\;\, &quot\;Segoe UI&quot\;\, Helvetica\, Arial\, sans-serif\; color: rgb(5\, 5\, 5)\; font-size: 15px\;">Cost $6/person</div>\n\n<div class="cxmmr5t8 oygrvhab hcukyx3x c1et5uql o9v6fnle" style="overflow-wrap: break-word\; margin: 0.5em 0px 0px\; font-family: &quot\;Segoe UI Historic&quot\;\, &quot\;Segoe UI&quot\;\, Helvetica\, Arial\, sans-serif\; color: rgb(5\, 5\, 5)\; font-size: 15px\;">Tell your friends.</div>\n
LOCATION:Green Lagoon Golf 8640 Green Lake Trail Chisago City\, MN 55013 Phone: 651-213-3326
UID:e.3575.4282
SEQUENCE:3
DTSTAMP:20260421T115614Z
URL:https://business.chisagolakeschamber.com/events/details/glow-mini-golf-at-green-lagoon-golf-4282
END:VEVENT

END:VCALENDAR
