BEGIN:VCALENDAR
VERSION:2.0
PRODID:-//ChamberMaster//Event Calendar 2.0//EN
METHOD:PUBLISH
X-PUBLISHED-TTL:P3D
REFRESH-INTERVAL:P3D
CALSCALE:GREGORIAN
BEGIN:VEVENT
DTSTART:20200119T190000Z
DTEND:20200119T220000Z
X-MICROSOFT-CDO-ALLDAYEVENT:FALSE
SUMMARY:Gnome Planked Sign
DESCRIPTION:Join the latest gnome craze and come join the Happy Kampers to make your own Hangin' With My Gnomies 3D planked sign. Finished sign with be 14" x 14". Registration required. Registration and payment due one week prior to the event. To hold your spot please email: thekappykampersmn@gmail.com. Registration fee of $42 includes all supplies\, instruction and token for a Doub-Loon from The Uncommon Loon.
X-ALT-DESC;FMTTYPE=text/html:<span style="color: rgb(29\, 33\, 41)\; font-family: Helvetica\, Arial\, sans-serif\; font-size: 14px\; white-space: pre-wrap\;">Join the latest gnome craze and come join the Happy Kampers to make your own Hangin&#39\; With My Gnomies 3D planked sign. </span><span style="color: rgb(29\, 33\, 41)\; font-family: Helvetica\, Arial\, sans-serif\; font-size: 14px\; white-space: pre-wrap\;">Finished sign with be 14&quot\; x 14&quot\;. </span><span style="color: rgb(29\, 33\, 41)\; font-family: Helvetica\, Arial\, sans-serif\; font-size: 14px\; white-space: pre-wrap\;">Registration required. Registration and payment due one week prior to the event. To hold your spot please email: thekappykampersmn@gmail.com. </span><span style="color: rgb(29\, 33\, 41)\; font-family: Helvetica\, Arial\, sans-serif\; font-size: 14px\; white-space: pre-wrap\;">Registration fee of $42 includes all supplies\, instruction and token for a Doub-Loon from The Uncommon Loon.</span>
LOCATION:
UID:e.3575.19
SEQUENCE:3
DTSTAMP:20260424T162554Z
URL:https://business.chisagolakeschamber.com/events/details/gnome-planked-sign-19
END:VEVENT

END:VCALENDAR
