BEGIN:VCALENDAR
VERSION:2.0
PRODID:-//ChamberMaster//Event Calendar 2.0//EN
METHOD:PUBLISH
X-PUBLISHED-TTL:P3D
REFRESH-INTERVAL:P3D
CALSCALE:GREGORIAN
BEGIN:VEVENT
DTSTART:20251208T173000Z
DTEND:20251208T200000Z
X-MICROSOFT-CDO-ALLDAYEVENT:FALSE
SUMMARY:God Jul Party at the Karl Oskar House
DESCRIPTION:Join the Friends of the Karl Oskar House Volunteers for a holiday God Jul Celebration from 11:30am to 2pm at the Karl Oskar House - Verkstad. Dress warmly and bring a potluck item to share.
X-ALT-DESC;FMTTYPE=text/html:Join the Friends of the Karl Oskar House Volunteers for a holiday God Jul Celebration from 11:30am to 2pm at the Karl Oskar House - Verkstad. Dress warmly and bring a potluck item to share.&nbsp\;
LOCATION:Karl Oskar House 29061 Glader Blvd Lindstrom MN
UID:e.3575.9055
SEQUENCE:3
DTSTAMP:20260422T093212Z
URL:https://business.chisagolakeschamber.com/events/details/god-jul-party-at-the-karl-oskar-house-9055
END:VEVENT

END:VCALENDAR
