BEGIN:VCALENDAR
VERSION:2.0
PRODID:-//ChamberMaster//Event Calendar 2.0//EN
METHOD:PUBLISH
X-PUBLISHED-TTL:P3D
REFRESH-INTERVAL:P3D
CALSCALE:GREGORIAN
BEGIN:VEVENT
DTSTART:20251030T190000Z
DTEND:20251030T210000Z
X-MICROSOFT-CDO-ALLDAYEVENT:FALSE
SUMMARY:Grow With Google : No-Cost SBDC Training!
DESCRIPTION:In this hands-on workshop\, small business owners and entrepreneurs will explore essential digital tools from Google that can help boost their online presence\, attract customers\, and improve productivity. This session will cover topics such as creating or optimizing a Google Business Profile\, understanding online advertising with Google Ads\, leveraging Google Analytics for insights\, and using Google Workspace for streamlined operations. Participants will walk away with practical skills to expand their digital footprint and effectively engage customers\, all while saving time and resources.\n\nRegister here: https://mnscu.rschooltoday.com/public/costoption/class_id/302913
X-ALT-DESC;FMTTYPE=text/html:<span style="font-family:calibri\,sans-serif\; font-size:11pt">In this hands-on workshop\, small business owners and entrepreneurs will explore essential digital tools from Google that can help boost their online presence\, attract customers\, and improve productivity. This session will cover topics such as creating or optimizing a Google Business Profile\, understanding online advertising with Google Ads\, leveraging Google Analytics for insights\, and using Google Workspace for streamlined operations. Participants will walk away with practical skills to expand their digital footprint and effectively engage customers\, all while saving time and resources.<br />\nRegister here:&nbsp\;</span>https://mnscu.rschooltoday.com/public/costoption/class_id/302913
LOCATION:Chisago County HRA-EDA 38871 7th Ave North Branch\, MN 55056 651-674-5664
UID:e.3575.9079
SEQUENCE:3
DTSTAMP:20260422T063839Z
URL:https://business.chisagolakeschamber.com/events/details/grow-with-google-no-cost-sbdc-training-9079
END:VEVENT

END:VCALENDAR
