BEGIN:VCALENDAR
VERSION:2.0
PRODID:-//ChamberMaster//Event Calendar 2.0//EN
METHOD:PUBLISH
X-PUBLISHED-TTL:P3D
REFRESH-INTERVAL:P3D
CALSCALE:GREGORIAN
BEGIN:VEVENT
DTSTART;VALUE=DATE:20210107
DTEND;VALUE=DATE:20210110
TRANSP:TRANSPARENT
X-MICROSOFT-CDO-ALLDAYEVENT:TRUE
SUMMARY:Gustaf's Up North Gallery After Christmas Sale
DESCRIPTION:Our annual After Christmas Sale is here! Save on Christmas decor across the store.\n\n\n	50% off lights\n	40% off ornaments\n	30% off Tomten\n	20% off Christmas linenes & decor\n	$5 Christmas dishcloths.\n\n\nArtist work excluded. Call or email if you would prefer to shop virtually
X-ALT-DESC;FMTTYPE=text/html:<p style="margin: 0px\; padding: 0px\; text-align: justify\;">Our annual After Christmas Sale is here! Save on Christmas decor across the store.</p>\n\n<ul>\n	<li style="margin: 0px\; padding: 0px\; text-align: justify\;">50% off lights</li>\n	<li style="margin: 0px\; padding: 0px\; text-align: justify\;">40% off ornaments</li>\n	<li style="margin: 0px\; padding: 0px\; text-align: justify\;">30% off Tomten</li>\n	<li style="margin: 0px\; padding: 0px\; text-align: justify\;">20% off Christmas linenes &amp\; decor</li>\n	<li style="margin: 0px\; padding: 0px\; text-align: justify\;">$5 Christmas dishcloths.</li>\n</ul>\n\n<p style="margin: 0px\; padding: 0px\; text-align: justify\;">Artist work excluded. Call or&nbsp\;<a data-id="l-2275776934" href="https://chisagolakeschamber.us11.list-manage.com/track/click?u=36fa549bd89fac14301c31d0b&amp\;id=bff10b8450&amp\;e=33c52c783c" rel="nofollow" style="cursor: pointer\; color: rgb(28\, 110\, 152)\;" target="_blank">email</a>&nbsp\;if you would prefer to shop virtually</p>\n
LOCATION:13025 Lake Blvd\, Lindstrom 651-257-1821 GustafsUpNorthGallery.com
UID:e.3575.344
SEQUENCE:3
DTSTAMP:20260424T012231Z
URL:https://business.chisagolakeschamber.com/events/details/gustaf-s-up-north-gallery-after-christmas-sale-344
END:VEVENT

END:VCALENDAR
