BEGIN:VCALENDAR
VERSION:2.0
PRODID:-//ChamberMaster//Event Calendar 2.0//EN
METHOD:PUBLISH
X-PUBLISHED-TTL:P3D
REFRESH-INTERVAL:P3D
CALSCALE:GREGORIAN
BEGIN:VEVENT
DTSTART:20221222T160000Z
DTEND:20221223T010000Z
X-MICROSOFT-CDO-ALLDAYEVENT:FALSE
SUMMARY:Guy's Night Out at Gladje!
DESCRIPTION:Guy's Night Out! \n\nGet your last minute shopping WRAPPED up at Gl dje! Complimentary gift wrapping\, and as much or as little assistance as you'd like to find the perfect gifts just in time!
X-ALT-DESC;FMTTYPE=text/html:Guy&#39\;s Night Out!&nbsp\;<br />\nGet your last minute shopping WRAPPED up at Gl&auml\;dje! Complimentary gift wrapping\, and as much or as little assistance as you&#39\;d like to find the perfect gifts just in time!
LOCATION:Gl dje 13025 Lake Boulevard Lindstr m\, MN 55045
UID:e.3575.5371
SEQUENCE:3
DTSTAMP:20260422T185946Z
URL:https://business.chisagolakeschamber.com/events/details/guy-s-night-out-at-gladje-5371
END:VEVENT

END:VCALENDAR
