BEGIN:VCALENDAR
VERSION:2.0
PRODID:-//ChamberMaster//Event Calendar 2.0//EN
METHOD:PUBLISH
X-PUBLISHED-TTL:P3D
REFRESH-INTERVAL:P3D
CALSCALE:GREGORIAN
BEGIN:VEVENT
DTSTART:20220727T233000Z
DTEND:20220728T010000Z
X-MICROSOFT-CDO-ALLDAYEVENT:FALSE
SUMMARY:Harmony in the Park
DESCRIPTION:The concerts are FREE to the public and are family-friendly.  Bring a lawn chair and come and check out these talented musicians!  If there is inclement weather\, the concerts will move next door into the Community Center.\n\nClick HERE  for the 2022 PRELIMINARY schedule.
X-ALT-DESC;FMTTYPE=text/html:<p style="box-sizing: border-box\; overflow-wrap: break-word\; margin: 0px 0px 16px\; color: rgb(97\, 97\, 97)\; font-size: 18px\; line-height: 1.3em\; font-family: &quot\;Source Sans Pro&quot\;\, sans-serif\;"><span style="font-family:arial\;">The concerts are&nbsp\;<span style="box-sizing: border-box\; font-weight: bolder\;">FREE</span>&nbsp\;to the public and&nbsp\;are family-friendly.&nbsp\; Bring a lawn chair and come and check out these talented musicians!&nbsp\; If there is inclement weather\, the concerts will move next door into&nbsp\;the Community Center.</span></p>\n\n<p style="box-sizing: border-box\; overflow-wrap: break-word\; margin: 0px 0px 16px\; color: rgb(97\, 97\, 97)\; font-size: 18px\; line-height: 1.3em\; font-family: &quot\;Source Sans Pro&quot\;\, sans-serif\;"><span style="font-family:arial\;">Click&nbsp\;<a href="https://www.cityoflindstrom.us/sites/g/files/vyhlif6931/f/uploads/2022_harmony_poster_-_11x17_-_preliminary_poster_for_home_business_expo.pdf" rel="noopener" style="box-sizing: border-box\; background-color: transparent\; text-decoration-line: none\; color: rgb(52\, 129\, 200)\; box-shadow: none\;" target="_blank"><span style="box-sizing: border-box\; font-weight: bolder\;">HERE</span></a>&nbsp\; for the 2022 PRELIMINARY schedule.</span></p>\n
LOCATION:Lions Park Band Shell (next to Lindstrom City Hall) 13292 Sylvan Avenue\, Lindstr m\, MN 55045 Concerts will be held in the Lindstrom Community Center if there is inclement weather. For directions\, click HERE.
UID:e.3575.3246
SEQUENCE:3
DTSTAMP:20260423T043348Z
URL:https://business.chisagolakeschamber.com/events/details/harmony-in-the-park-07-27-2022-3246
END:VEVENT

END:VCALENDAR
