BEGIN:VCALENDAR
VERSION:2.0
PRODID:-//ChamberMaster//Event Calendar 2.0//EN
METHOD:PUBLISH
X-PUBLISHED-TTL:P3D
REFRESH-INTERVAL:P3D
CALSCALE:GREGORIAN
BEGIN:VEVENT
DTSTART:20230131T001500Z
DTEND:20230131T014500Z
X-MICROSOFT-CDO-ALLDAYEVENT:FALSE
SUMMARY:Intro to Bike Fitness Training
DESCRIPTION:Maklin Bike Shop "Intro to Bike Fitness Training" Workshop Series\n\nWho is this for:\n\nYou are interested in learning more about purposeful training\, tools available (online training apps\, indoor trainers\, etc.) and how to use them to better prepare yourself for a big race or ride next summer\, or just be better prepared to hit the trails or roads on 2 wheels when the sun starts shining this spring.\n\n\n\nFocus Topics:\n\nWorkshop sessions will be led by Steve and cover the platforms and topics laid out below with plenty of time for open discussion and Q&A around the topics and platforms.\n\n\n\nTraining management and tracking apps that will be reviewed and discussed:\n\n  Training Peaks\n\n  Trainer Road\n\n  Strava\n\n  Garmin Connect\n\n  Tacx Training App\n\n  Wahoo SYSTM & RGT\n\n  Zwift\n\n  Rouvy\n\n\n\nTopics that will be reviewed and discussed:\n\n  Identifying priority rides\, races and/or specific goals\n\n  Training plan options and calendars\n\n  General training plan phases\n\n  Indoor training options\n\n  Training Zones\n\n  Training with heart rate\n\n  Training with a power meter\n\n  Baseline Cycling Fitness Testing Options\n\n  Building a workout\n\n  Planning your training week
X-ALT-DESC;FMTTYPE=text/html:<p><span style="font-size:14px\;"><span style="font-family:arial\;">Maklin Bike Shop &quot\;Intro to Bike Fitness Training&quot\; Workshop Series</span></span></p>\n\n<p><span style="font-family: arial\; font-size: 14px\; font-weight: 700\;">Who is this for:</span><br />\n<span style="font-size:14px\;"><span style="font-family:arial\;">You are interested in learning more about purposeful training\, tools available (online training apps\, indoor trainers\, etc.) and how to use them to better prepare yourself for a big race or ride next summer\, or just be better prepared to hit the trails or roads on 2 wheels when the sun starts shining this spring.<br />\n<br style="box-sizing: border-box\; -webkit-tap-highlight-color: transparent !important\; outline: none !important\;" />\n<strong>Focus Topics:</strong><br style="box-sizing: border-box\; -webkit-tap-highlight-color: transparent !important\; outline: none !important\;" />\nWorkshop sessions will be led by Steve and cover the platforms and topics laid out below with plenty of time for open discussion and Q&amp\;A around the topics and platforms.<br style="box-sizing: border-box\; -webkit-tap-highlight-color: transparent !important\; outline: none !important\;" />\n<br style="box-sizing: border-box\; -webkit-tap-highlight-color: transparent !important\; outline: none !important\;" />\nTraining management and tracking apps that will be reviewed and discussed:<br style="box-sizing: border-box\; -webkit-tap-highlight-color: transparent !important\; outline: none !important\;" />\n&bull\; Training Peaks<br style="box-sizing: border-box\; -webkit-tap-highlight-color: transparent !important\; outline: none !important\;" />\n&bull\; Trainer Road<br style="box-sizing: border-box\; -webkit-tap-highlight-color: transparent !important\; outline: none !important\;" />\n&bull\; Strava<br style="box-sizing: border-box\; -webkit-tap-highlight-color: transparent !important\; outline: none !important\;" />\n&bull\; Garmin Connect<br style="box-sizing: border-box\; -webkit-tap-highlight-color: transparent !important\; outline: none !important\;" />\n&bull\; Tacx Training App<br style="box-sizing: border-box\; -webkit-tap-highlight-color: transparent !important\; outline: none !important\;" />\n&bull\; Wahoo SYSTM &amp\; RGT<br style="box-sizing: border-box\; -webkit-tap-highlight-color: transparent !important\; outline: none !important\;" />\n&bull\; Zwift<br style="box-sizing: border-box\; -webkit-tap-highlight-color: transparent !important\; outline: none !important\;" />\n&bull\; Rouvy<br style="box-sizing: border-box\; -webkit-tap-highlight-color: transparent !important\; outline: none !important\;" />\n<br style="box-sizing: border-box\; -webkit-tap-highlight-color: transparent !important\; outline: none !important\;" />\n<strong>Topics that will be reviewed and discussed:</strong><br style="box-sizing: border-box\; -webkit-tap-highlight-color: transparent !important\; outline: none !important\;" />\n&bull\; Identifying priority rides\, races and/or specific goals<br style="box-sizing: border-box\; -webkit-tap-highlight-color: transparent !important\; outline: none !important\;" />\n&bull\; Training plan options and calendars<br style="box-sizing: border-box\; -webkit-tap-highlight-color: transparent !important\; outline: none !important\;" />\n&bull\; General training plan phases<br style="box-sizing: border-box\; -webkit-tap-highlight-color: transparent !important\; outline: none !important\;" />\n&bull\; Indoor training options<br style="box-sizing: border-box\; -webkit-tap-highlight-color: transparent !important\; outline: none !important\;" />\n&bull\; Training Zones<br style="box-sizing: border-box\; -webkit-tap-highlight-color: transparent !important\; outline: none !important\;" />\n&bull\; Training with heart rate<br style="box-sizing: border-box\; -webkit-tap-highlight-color: transparent !important\; outline: none !important\;" />\n&bull\; Training with a power meter<br style="box-sizing: border-box\; -webkit-tap-highlight-color: transparent !important\; outline: none !important\;" />\n&bull\; Baseline Cycling Fitness Testing Options<br style="box-sizing: border-box\; -webkit-tap-highlight-color: transparent !important\; outline: none !important\;" />\n&bull\; Building a workout<br style="box-sizing: border-box\; -webkit-tap-highlight-color: transparent !important\; outline: none !important\;" />\n&bull\; Planning your training week</span></span></p>\n
LOCATION:Maklin Bike Shop 30235 Redwing Ave Shafer\, MN 55074
UID:e.3575.5370
SEQUENCE:3
DTSTAMP:20260423T100513Z
URL:https://business.chisagolakeschamber.com/events/details/intro-to-bike-fitness-training-01-30-2023-5370
END:VEVENT

END:VCALENDAR
