BEGIN:VCALENDAR
VERSION:2.0
PRODID:-//ChamberMaster//Event Calendar 2.0//EN
METHOD:PUBLISH
X-PUBLISHED-TTL:P3D
REFRESH-INTERVAL:P3D
CALSCALE:GREGORIAN
BEGIN:VEVENT
DTSTART:20200222T170000Z
DTEND:20200222T180000Z
X-MICROSOFT-CDO-ALLDAYEVENT:FALSE
SUMMARY:Its Just Yoga
DESCRIPTION:Come for the yoga class and stay for a beer and conversation with your friends and/or family! One hour yoga followed by an uncommonly fantastic beer (or soda!) for $15.00 - cash or check. ALL levels welcome\, bring your own mat\, no reservations required.
X-ALT-DESC;FMTTYPE=text/html:<span style="color: rgb(0\, 0\, 0)\; font-family: Roboto\, &quot\;Lucida Grande&quot\;\, arial\, sans-serif\; font-size: 14px\;">Come for the yoga class and stay for a beer and conversation with your friends and/or family! One hour yoga followed by an uncommonly fantastic beer (or soda!) for $15.00 - cash or check. ALL levels welcome\, bring your own mat\, no reservations required.</span>
LOCATION:The Uncommon Loon Brewery 10825 Lake Blvd Chisago City\, MN 55013 651-321-4468
UID:e.3575.176
SEQUENCE:3
DTSTAMP:20260424T144758Z
URL:https://business.chisagolakeschamber.com/events/details/its-just-yoga-176
END:VEVENT

END:VCALENDAR
