BEGIN:VCALENDAR
VERSION:2.0
PRODID:-//ChamberMaster//Event Calendar 2.0//EN
METHOD:PUBLISH
X-PUBLISHED-TTL:P3D
REFRESH-INTERVAL:P3D
CALSCALE:GREGORIAN
BEGIN:VEVENT
DTSTART:20210610T163000Z
DTEND:20210610T180000Z
X-MICROSOFT-CDO-ALLDAYEVENT:FALSE
SUMMARY:June 10th Chamber Luncheon
DESCRIPTION:June 10th Chamber Luncheon\n\nSpeaker:  Joe Triplett\n\nHighway 8        Chisago County is leading a project to identity a long-term solution to improve safety and mobility along U.S. Highway 8 from I-35 in Forest Lake to Karmel Avenue in Chisago County. The project team is looking at a few options for a new corridor design\, which needs to address safety and mobility issues\, while taking pedestrian and bicyclist needs into consideration.
X-ALT-DESC;FMTTYPE=text/html:June 10th Chamber Luncheon<br />\nSpeaker:&nbsp\; Joe Triplett<br />\nHighway 8&nbsp\;&nbsp\;&nbsp\;&nbsp\;&nbsp\;&nbsp\;&nbsp\;&nbsp\;<span style="color: rgb(19\, 19\, 20)\; font-family: Roboto\; font-size: 14.4px\; background-color: rgb(253\, 253\, 254)\;">Chisago County is leading a project to identity a long-term solution to improve safety and mobility along U.S. Highway 8 from I-35 in Forest Lake to Karmel Avenue in Chisago County. The project team is looking at a few options for a new corridor design\, which needs to address safety and mobility issues\, while taking pedestrian and bicyclist needs into consideration.</span><br />\n&nbsp\;
LOCATION:Thank you to Winehaven for hosting the June Chamber luncheon and for their continued support! Winehaven 10200 Deer Garden Lane Chisago City\, MN 55013
UID:e.3575.822
SEQUENCE:3
DTSTAMP:20260423T115835Z
URL:https://business.chisagolakeschamber.com/events/details/june-10th-chamber-luncheon-822
END:VEVENT

END:VCALENDAR
