BEGIN:VCALENDAR
VERSION:2.0
PRODID:-//ChamberMaster//Event Calendar 2.0//EN
METHOD:PUBLISH
X-PUBLISHED-TTL:P3D
REFRESH-INTERVAL:P3D
CALSCALE:GREGORIAN
BEGIN:VEVENT
DTSTART:20220706T210000Z
DTEND:20220706T230000Z
X-MICROSOFT-CDO-ALLDAYEVENT:FALSE
SUMMARY:Karl & Kristina Swedish Dinner @ Gustaf's Eatery
DESCRIPTION:Karl & Kristina Swedish Dinner @ Gustaf's Eatery includes:\n\nAppetizer\, Salad\, Swedish Meatballs in Gravy\, Potatoes\, Lingonberries\, Dessert & Beverage\n\nPlease call 651 263 0737 for reservations. \n\nSeating times available from 4pm to 6pm\n\n$25 per person plus tax and gratuity.\n\nCredit card required to hold reservation.\n\nNo cancelations.  \n\nSpace is limited.
X-ALT-DESC;FMTTYPE=text/html:Karl &amp\; Kristina Swedish Dinner @ Gustaf&#39\;s Eatery includes:<br />\nAppetizer\, Salad\, Swedish Meatballs in Gravy\, Potatoes\, Lingonberries\, Dessert &amp\; Beverage<br />\nPlease call 651 263 0737 for reservations.&nbsp\;<br />\nSeating times available from 4pm to 6pm<br />\n$25 per person plus tax and gratuity.<br />\nCredit card required to hold reservation.<br />\nNo cancelations.&nbsp\;&nbsp\;<br />\nSpace is limited.&nbsp\;<br />\n&nbsp\;
LOCATION:Gustaf's On Main Eatery 13045 Lake Boulevard Lindstrom\, MN 55045
UID:e.3575.4278
SEQUENCE:3
DTSTAMP:20260423T044416Z
URL:https://business.chisagolakeschamber.com/events/details/karl-kristina-swedish-dinner-gustaf-s-eatery-4278
END:VEVENT

END:VCALENDAR
