BEGIN:VCALENDAR
VERSION:2.0
PRODID:-//ChamberMaster//Event Calendar 2.0//EN
METHOD:PUBLISH
X-PUBLISHED-TTL:P3D
REFRESH-INTERVAL:P3D
CALSCALE:GREGORIAN
BEGIN:VEVENT
DTSTART:20210710T140000Z
DTEND:20210710T180000Z
X-MICROSOFT-CDO-ALLDAYEVENT:FALSE
SUMMARY:Karl Oskar Days Car Show
DESCRIPTION:The Chisago Lakes Grill is hosting this years KOD Car Show! A portion of the proceeds will go to our local Chisago Lakes Beyond the Yellow Ribbon network to support local military connected families with emergency resources.
X-ALT-DESC;FMTTYPE=text/html:The Chisago Lakes Grill is hosting this years KOD Car Show! A portion of the proceeds will go to our local Chisago Lakes Beyond the Yellow Ribbon network to support local military connected families with emergency resources.
LOCATION:Chisago Lakes Hockey Area 12740 292nd St\, Lindstrom\, MN 55045
UID:e.3575.840
SEQUENCE:3
DTSTAMP:20260421T094541Z
URL:https://business.chisagolakeschamber.com/events/details/karl-oskar-days-car-show-840
END:VEVENT

END:VCALENDAR
