BEGIN:VCALENDAR
VERSION:2.0
PRODID:-//ChamberMaster//Event Calendar 2.0//EN
METHOD:PUBLISH
X-PUBLISHED-TTL:P3D
REFRESH-INTERVAL:P3D
CALSCALE:GREGORIAN
BEGIN:VEVENT
DTSTART;VALUE=DATE:20220409
DTEND;VALUE=DATE:20220410
TRANSP:TRANSPARENT
X-MICROSOFT-CDO-ALLDAYEVENT:TRUE
SUMMARY:Karl Oskar House Annual Meeting - Entertainment and Speaker
DESCRIPTION:If you are interested in local history\, the Friends of the Karl Oskar House invite you to hear featured speaker David Elfstrand at their annual meeting Saturday\, April 9\, at the Chisago Lakes Area Library\, 11754 302nd St.\, Chisago City.\n\n The meeting begins at 9:30 a.m. with FIKA (Swedish for coffee and a snack) and entertainment by the Nya Duvem la Folkmusiklag. Following a brief business meeting\, David Elfstrand will share remembrances of growing up on Newell Avenue in Lindstrom in the 1940s and 1950s when his father was the local pharmacist. Elfstrand went on to found Odin Imports.\n\nThe meeting is open to anyone who has an interest in local history. Contact friendsofkarloskarhouse@gmail.com for more information.
X-ALT-DESC;FMTTYPE=text/html:<p><span style="color:rgb(29\, 34\, 40)\; font-family:helvetica\,sans-serif\; font-size:10.5pt">&nbsp\;</span><span style="color:rgb(29\, 34\, 40)\; font-family:helvetica\,sans-serif\; font-size:10.5pt">If you are&nbsp\;interested in local history\, the Friends of the Karl Oskar House invite you to hear featured speaker David Elfstrand at their&nbsp\;annual meeting Saturday\, April 9\, at the Chisago Lakes Area Library\, 11754 302nd St.\, Chisago City.</span></p>\n\n<p><span style="color:rgb(29\, 34\, 40)\; font-family:helvetica\,sans-serif\; font-size:10.5pt">&nbsp\;</span><span style="color:rgb(29\, 34\, 40)\; font-family:helvetica\,sans-serif\; font-size:10.5pt">The meeting begins at 9:30 a.m. with FIKA (Swedish for coffee and a snack) and entertainment by the&nbsp\;<em>Nya Duvem&aring\;la Folkmusiklag</em>.&nbsp\;Following a brief business meeting\, David Elfstrand will share remembrances of growing up on Newell Avenue in Lindstrom in the 1940s and 1950s when his father was the local pharmacist. Elfstrand went on to found Odin Imports.</span></p>\n\n<p><span style="color:rgb(29\, 34\, 40)\; font-family:helvetica\,sans-serif\; font-size:10.5pt">The meeting is open to anyone who has an interest in local history. Contact&nbsp\;</span><a href="mailto:friendsofkarloskarhouse@gmail.com" rel="nofollow noopener noreferrer" style="color: rgb(25\, 106\, 212)\;" target="_blank"><span style="font-family:helvetica\,sans-serif\; font-size:10.5pt">friendsofkarloskarhouse@gmail.com</span></a><span style="color:rgb(29\, 34\, 40)\; font-family:helvetica\,sans-serif\; font-size:10.5pt">&nbsp\;for more information.</span></p>\n\n<p><span style="font-family:century\,serif\; font-size:12pt">&nbsp\;</span></p>\n
LOCATION:Chisago Lakes Library 11754 302nd St Chisago City\, MN.
UID:e.3575.3209
SEQUENCE:3
DTSTAMP:20260421T110503Z
URL:https://business.chisagolakeschamber.com/events/details/karl-oskar-house-annual-meeting-entertainment-and-speaker-3209
END:VEVENT

END:VCALENDAR
